BEGIN:VCALENDAR
VERSION:2.0
PRODID:-// - ECPv6.13.2.1//NONSGML v1.0//EN
CALSCALE:GREGORIAN
METHOD:PUBLISH
X-ORIGINAL-URL:https://www.bne.gob.ec
X-WR-CALDESC:Eventos para 
REFRESH-INTERVAL;VALUE=DURATION:PT1H
X-Robots-Tag:noindex
X-PUBLISHED-TTL:PT1H
BEGIN:VTIMEZONE
TZID:America/New_York
BEGIN:DAYLIGHT
TZOFFSETFROM:-0500
TZOFFSETTO:-0400
TZNAME:EDT
DTSTART:20250309T070000
END:DAYLIGHT
BEGIN:STANDARD
TZOFFSETFROM:-0400
TZOFFSETTO:-0500
TZNAME:EST
DTSTART:20251102T060000
END:STANDARD
BEGIN:DAYLIGHT
TZOFFSETFROM:-0500
TZOFFSETTO:-0400
TZNAME:EDT
DTSTART:20260308T070000
END:DAYLIGHT
BEGIN:STANDARD
TZOFFSETFROM:-0400
TZOFFSETTO:-0500
TZNAME:EST
DTSTART:20261101T060000
END:STANDARD
BEGIN:DAYLIGHT
TZOFFSETFROM:-0500
TZOFFSETTO:-0400
TZNAME:EDT
DTSTART:20270314T070000
END:DAYLIGHT
BEGIN:STANDARD
TZOFFSETFROM:-0400
TZOFFSETTO:-0500
TZNAME:EST
DTSTART:20271107T060000
END:STANDARD
END:VTIMEZONE
BEGIN:VEVENT
DTSTART;VALUE=DATE:20251121
DTEND;VALUE=DATE:20260101
DTSTAMP:20260420T235241
CREATED:20251121T200106Z
LAST-MODIFIED:20251121T201430Z
UID:6541-1763683200-1767225599@www.bne.gob.ec
SUMMARY:No violencia a la mujer
DESCRIPTION:La violencia contra las mujeres sigue siendo un grave problema de salud pública que afecta a las mujeres\, a sus hogares\, a las empresas\, a las empresas privadas y a los Estados. Esto tiene consecuencias sociales y económicas muy graves para las sociedades y los países en su conjunto\, y para el desarrollo de sus habitantes. \nEsta biblioteca digital recoge materiales\, especialmente de Bolivia\, Ecuador\, Paraguay y Perú\, comprometidos con el cambio de este status quo. \nhttps://comvomujer.org/
URL:https://www.bne.gob.ec/event/no-violencia-a-la-mujer/
LOCATION:Pichincha
CATEGORIES:Programación
ATTACH;FMTTYPE=image/jpeg:https://www.bne.gob.ec/wp-content/uploads/WhatsApp-Image-2025-11-21-at-2.57.13-PM.jpeg
END:VEVENT
BEGIN:VEVENT
DTSTART;TZID=America/New_York:20251211T080000
DTEND;TZID=America/New_York:20260115T170000
DTSTAMP:20260420T235241
CREATED:20251210T170324Z
LAST-MODIFIED:20251210T170324Z
UID:6553-1765440000-1768496400@www.bne.gob.ec
SUMMARY:Exposición "La evolución en el arte del artista"
DESCRIPTION:Te invitamos a la exposición “La evolución en el arte del artista”\, una muestra pictórica del maestro Medardo Estrada Pancho\, que reúne treinta obras trabajadas en óleo sobre tela\, óleo sobre madera y técnicas de fumigación.\n\n\nUn espacio para apreciar la trayectoria\, la técnica y la sensibilidad de un referente de la pintura contemporánea.\n\nLa inauguración será el 11 de diciembre a las 11h00. Acompáñanos!
URL:https://www.bne.gob.ec/event/exposicion-la-evolucion-en-el-arte-del-artista/
LOCATION:Auditorio Biblioteca Nacional Eugenio Espejo\, Sodiro y Valparaíso\, Quito\, Pichincha\, Ecuador
CATEGORIES:Exposición
ATTACH;FMTTYPE=image/jpeg:https://www.bne.gob.ec/wp-content/uploads/Obra.jpg
END:VEVENT
BEGIN:VEVENT
DTSTART;TZID=America/New_York:20260124T103000
DTEND;TZID=America/New_York:20260124T120000
DTSTAMP:20260420T235241
CREATED:20260109T181252Z
LAST-MODIFIED:20260109T203124Z
UID:6557-1769250600-1769256000@www.bne.gob.ec
SUMMARY:Pablo Palacio\, lectura de textos
DESCRIPTION:El 25 de enero de 2026 se cumplen 120 años del nacimiento del escritor Pablo Palacio\, una de las referencias mayores de la literatura ecuatoriana del siglo XX. Para celebrarlo\, la Biblioteca Nacional Eugenio Espejo invita a una lectura de cuentos y fragmentos de Un hombre muerto a puntapiés\, Débora y Vida del ahorcado\, el sábado 24\, a partir de las 10:30. Participarán los narradores Gabriela Alemán y Edwin Alcarás\, además del poeta Alfonso Espinosa Andrade\, entre otros invitados. \nhttps://repositorio.bne.gob.ec/xmlui/handle/34000/1073 \nhttps://repositorio.bne.gob.ec/xmlui/handle/34000/1074 \nhttps://repositorio.bne.gob.ec/xmlui/handle/34000/1075
URL:https://www.bne.gob.ec/event/pablo-palacio-lectura-de-textos/
LOCATION:Auditorio Biblioteca Nacional Eugenio Espejo\, Sodiro y Valparaíso\, Quito\, Pichincha\, Ecuador
CATEGORIES:Hitos y Legados
ATTACH;FMTTYPE=image/jpeg:https://www.bne.gob.ec/wp-content/uploads/Enero-24.jpeg
END:VEVENT
BEGIN:VEVENT
DTSTART;TZID=America/New_York:20260124T103000
DTEND;TZID=America/New_York:20260222T120000
DTSTAMP:20260420T235241
CREATED:20260109T181926Z
LAST-MODIFIED:20260109T202747Z
UID:6566-1769250600-1771761600@www.bne.gob.ec
SUMMARY:Pablo Palacio\, primeras ediciones
DESCRIPTION:En su fugaz vida (1906-1947)\, Pablo Palacio produjo tres libros fundamentales para la literatura moderna del Ecuador. Expondremos ejemplares de las primeras ediciones de Un hombre muerto a puntapiés\, Débora y Vida del ahorcado\, así como volúmenes de crítica literaria y obras de valoración sobre la creación palaciana.
URL:https://www.bne.gob.ec/event/pablo-palacio-primeras-ediciones/
LOCATION:Sala de exposiciones Biblioteca Nacional Eugenio Espejo\, Sodiro y Valparaíso\, Quito\, Pichincha\, Ecuador
CATEGORIES:Hitos y Legados
ATTACH;FMTTYPE=image/jpeg:https://www.bne.gob.ec/wp-content/uploads/Hitos-y-legados.jpeg
END:VEVENT
BEGIN:VEVENT
DTSTART;TZID=America/New_York:20260127T093000
DTEND;TZID=America/New_York:20260130T120000
DTSTAMP:20260420T235241
CREATED:20260109T182456Z
LAST-MODIFIED:20260109T182456Z
UID:6568-1769506200-1769774400@www.bne.gob.ec
SUMMARY:Leyendo y creando con Pablo Palacio
DESCRIPTION:Entre el martes 27 y el viernes 30 se recibirá a grupos de estudiantes de bachillerato\, con los cuales se desarrollará una experiencia de lectura y de creación libre en torno a los potentes relatos del autor de “El Antropófago”. Las instituciones educativas interesadas en este programa gratuito deben escribir al correo info@bne.gob.ec o bien comunicarse al teléfono 381 4550\, ext. 3010.
URL:https://www.bne.gob.ec/event/leyendo-y-creando-con-pablo-palacio/
LOCATION:Auditorio Biblioteca Nacional Eugenio Espejo\, Sodiro y Valparaíso\, Quito\, Pichincha\, Ecuador
CATEGORIES:Hitos y Legados
ATTACH;FMTTYPE=image/jpeg:https://www.bne.gob.ec/wp-content/uploads/Hitos-y-legados.jpeg
END:VEVENT
BEGIN:VEVENT
DTSTART;TZID=America/New_York:20260127T183000
DTEND;TZID=America/New_York:20260127T200000
DTSTAMP:20260420T235241
CREATED:20260109T182637Z
LAST-MODIFIED:20260109T202651Z
UID:6570-1769538600-1769544000@www.bne.gob.ec
SUMMARY:Mesa redonda sobre Pablo Palacio
DESCRIPTION:El martes 27\, a las 18:30\, la Biblioteca Nacional Eugenio Espejo propone una mesa redonda con especialistas universitarios\, para explorar con profundidad aspectos de la obra palaciana: su enorme capacidad de asimilar conocimientos y conceptos complejos\, así como su afilado sentido de la ironía. Han confirmado su participación los profesores Fernando Albán\, Alicia Ortega y Raúl Serrano.
URL:https://www.bne.gob.ec/event/mesa-critica-sobre-pablo-palacio/
LOCATION:Auditorio Biblioteca Nacional Eugenio Espejo\, Sodiro y Valparaíso\, Quito\, Pichincha\, Ecuador
CATEGORIES:Hitos y Legados
ATTACH;FMTTYPE=image/jpeg:https://www.bne.gob.ec/wp-content/uploads/Hitos-y-legados.jpeg
END:VEVENT
BEGIN:VEVENT
DTSTART;TZID=America/New_York:20260401T090000
DTEND;TZID=America/New_York:20270630T163000
DTSTAMP:20260420T235241
CREATED:20250529T162319Z
LAST-MODIFIED:20260411T172043Z
UID:5842-1775034000-1814373000@www.bne.gob.ec
SUMMARY:Ludobiblioteca
DESCRIPTION:«Espacio especialmente diseñado y concebido para niños\, con juegos lúdicos y libros que desarrollan su interés y capacidad de lectura». \nHorario de atención: \nLunes a Viernes: 09h00 a 16h30 \nSábados: 09h00 a 13h00
URL:https://www.bne.gob.ec/event/calendario-de-eventos/
LOCATION:Auditorio Biblioteca Nacional Eugenio Espejo\, Sodiro y Valparaíso\, Quito\, Pichincha\, Ecuador
CATEGORIES:Club de lectura,Cuentacuentos,Programación,Talleres
ATTACH;FMTTYPE=image/jpeg:https://www.bne.gob.ec/wp-content/uploads/ludo-6-e1748902865828.jpeg
END:VEVENT
BEGIN:VEVENT
DTSTART;TZID=America/New_York:20260413T160000
DTEND;TZID=America/New_York:20260413T190000
DTSTAMP:20260420T235241
CREATED:20260411T171856Z
LAST-MODIFIED:20260411T171856Z
UID:6609-1776096000-1776106800@www.bne.gob.ec
SUMMARY:Don Juan Montalvo Fiallos
DESCRIPTION:Este lunes 13 de abril te invitamos a un encuentro especial en la Biblioteca Nacional Eugenio Espejo 📚 \nA partir de las 16h00\, compartiremos una charla junto a Andrés Lasso Ruales y Julio Pazos Barrera\, quienes nos acercarán a la vida y obra de Juan Montalvo Fiallos\, en el marco de su natalicio y del Día del Maestro ecuatoriano 🇪🇨✨
URL:https://www.bne.gob.ec/event/don-juan-montalvo-fiallos/
LOCATION:Sala de exposiciones Biblioteca Nacional Eugenio Espejo\, Sodiro y Valparaíso\, Quito\, Pichincha\, Ecuador
CATEGORIES:Exposición
ATTACH;FMTTYPE=image/jpeg:https://www.bne.gob.ec/wp-content/uploads/WhatsApp-Image-2026-04-10-at-8.24.55-PM.jpeg
END:VEVENT
BEGIN:VEVENT
DTSTART;TZID=America/New_York:20260417T103000
DTEND;TZID=America/New_York:20260417T120000
DTSTAMP:20260420T235241
CREATED:20260411T171556Z
LAST-MODIFIED:20260411T171556Z
UID:6606-1776421800-1776427200@www.bne.gob.ec
SUMMARY:Rendición de Cuentas 2025
DESCRIPTION:Te invitamos a participar de la deliberación pública del Informe de Rendición de Cuentas 2025 de la Biblioteca Nacional Eugenio Espejo.
URL:https://www.bne.gob.ec/event/rendicion-de-cuentas-2025/
LOCATION:Auditorio Biblioteca Nacional Eugenio Espejo\, Sodiro y Valparaíso\, Quito\, Pichincha\, Ecuador
CATEGORIES:Programación
ATTACH;FMTTYPE=image/jpeg:https://www.bne.gob.ec/wp-content/uploads/Rendicion2025.jpg
END:VEVENT
END:VCALENDAR