BEGIN:VCALENDAR
VERSION:2.0
PRODID:-// - ECPv6.13.2.1//NONSGML v1.0//EN
CALSCALE:GREGORIAN
METHOD:PUBLISH
X-ORIGINAL-URL:https://www.bne.gob.ec
X-WR-CALDESC:Eventos para 
REFRESH-INTERVAL;VALUE=DURATION:PT1H
X-Robots-Tag:noindex
X-PUBLISHED-TTL:PT1H
BEGIN:VTIMEZONE
TZID:America/New_York
BEGIN:DAYLIGHT
TZOFFSETFROM:-0500
TZOFFSETTO:-0400
TZNAME:EDT
DTSTART:20250309T070000
END:DAYLIGHT
BEGIN:STANDARD
TZOFFSETFROM:-0400
TZOFFSETTO:-0500
TZNAME:EST
DTSTART:20251102T060000
END:STANDARD
END:VTIMEZONE
BEGIN:VEVENT
DTSTART;TZID=America/New_York:20250722T140000
DTEND;TZID=America/New_York:20250722T153000
DTSTAMP:20260420T200810
CREATED:20250610T000802Z
LAST-MODIFIED:20250610T001342Z
UID:6337-1753192800-1753198200@www.bne.gob.ec
SUMMARY:Taller de narrativa 7- "Exploración de los géneros narrativos"
DESCRIPTION:Taller de narrativa 7- «Exploración de los géneros narrativos»
URL:https://www.bne.gob.ec/event/taller-de-narrativa-1-6/
CATEGORIES:Escritura
ATTACH;FMTTYPE=image/jpeg:https://www.bne.gob.ec/wp-content/uploads/hoja-en-blanco.jpg
END:VEVENT
END:VCALENDAR