BEGIN:VCALENDAR
VERSION:2.0
PRODID:-// - ECPv6.13.2.1//NONSGML v1.0//EN
CALSCALE:GREGORIAN
METHOD:PUBLISH
X-ORIGINAL-URL:https://www.bne.gob.ec
X-WR-CALDESC:Eventos para 
REFRESH-INTERVAL;VALUE=DURATION:PT1H
X-Robots-Tag:noindex
X-PUBLISHED-TTL:PT1H
BEGIN:VTIMEZONE
TZID:America/New_York
BEGIN:DAYLIGHT
TZOFFSETFROM:-0500
TZOFFSETTO:-0400
TZNAME:EDT
DTSTART:20250309T070000
END:DAYLIGHT
BEGIN:STANDARD
TZOFFSETFROM:-0400
TZOFFSETTO:-0500
TZNAME:EST
DTSTART:20251102T060000
END:STANDARD
END:VTIMEZONE
BEGIN:VEVENT
DTSTART;TZID=America/New_York:20250619T113000
DTEND;TZID=America/New_York:20250619T123000
DTSTAMP:20260420T221024
CREATED:20250602T200659Z
LAST-MODIFIED:20250609T233040Z
UID:6026-1750332600-1750336200@www.bne.gob.ec
SUMMARY:Descubre tu poesía-2- Ritmo\, métrica y musicalidad
DESCRIPTION:Sesión 2: Ritmo\, métrica y musicalidad\n\nTema: El sonido de las palabras. Métrica básica (sílabas métricas\, rima asonante y consonante)\, ritmo y cadencia. Aliteración\, anáfora y otros recursos sonoros.\nActividades:\n\nAnálisis de poemas con métrica definida:\n\nRubén Darío: «Sonatina» (para la musicalidad modernista) o algún soneto suyo.\nFederico García Lorca: fragmentos de «Romancero Gitano» (para el romance y la rima asonante).\nRemigio Romero y Cordero: su «Elegía de las rosas» (como ejemplo de soneto).\nErnesto Cardenal: fragmentos de «Oración por Marilyn Monroe» (para el verso libre con ritmo y la anáfora).\n\n\nEjercicios prácticos de identificación de rimas y patrones rítmicos.\nJuego de creación de versos con rima y ritmo específicos.
URL:https://www.bne.gob.ec/event/poesia-2/
LOCATION:Auditorio Biblioteca Nacional Eugenio Espejo\, Sodiro y Valparaíso\, Quito\, Pichincha\, Ecuador
CATEGORIES:Escritura
ATTACH;FMTTYPE=image/jpeg:https://www.bne.gob.ec/wp-content/uploads/pexels-eftodii-aurelia-90976-1088115.jpg
END:VEVENT
END:VCALENDAR