BEGIN:VCALENDAR
VERSION:2.0
PRODID:-// - ECPv6.13.2.1//NONSGML v1.0//EN
CALSCALE:GREGORIAN
METHOD:PUBLISH
X-ORIGINAL-URL:https://www.bne.gob.ec
X-WR-CALDESC:Eventos para 
REFRESH-INTERVAL;VALUE=DURATION:PT1H
X-Robots-Tag:noindex
X-PUBLISHED-TTL:PT1H
BEGIN:VTIMEZONE
TZID:America/New_York
BEGIN:DAYLIGHT
TZOFFSETFROM:-0500
TZOFFSETTO:-0400
TZNAME:EDT
DTSTART:20250309T070000
END:DAYLIGHT
BEGIN:STANDARD
TZOFFSETFROM:-0400
TZOFFSETTO:-0500
TZNAME:EST
DTSTART:20251102T060000
END:STANDARD
END:VTIMEZONE
BEGIN:VEVENT
DTSTART;TZID=America/New_York:20250612T113000
DTEND;TZID=America/New_York:20250612T123000
DTSTAMP:20260420T220718
CREATED:20250531T140109Z
LAST-MODIFIED:20250609T232711Z
UID:5948-1749727800-1749731400@www.bne.gob.ec
SUMMARY:Descubre tu poesía-1-El lenguaje poético y la sensibilidad
DESCRIPTION:Sesión 1: El lenguaje poético y la sensibilidad \n\nTema: Introducción a la poesía. ¿Qué es la poesía? Mitos y realidades. El lenguaje como materia prima. La importancia de la lectura en voz alta.\nActividades:\n\nPresentación del taller y los participantes.\nLectura comentada de poemas breves y accesibles:\n\nJorge Carrera Andrade: «Biografía para uso de los pájaros»\,  «Vida del Grillo». (Para explorar la micro-realidad y la imagen precisa).\nMedardo Ángel Silva: «El alma en los labios» o «Se va con algo mío». (Para sentir la musicalidad y el romanticismo modernista).\nIleana Espinel Cedeño: «Tinta»\, «Los días que no fuimos». (Para una voz más contemporánea y reflexiva).\nSelección de haikus: (Para introducir la concisión y la imagen pura).\n\n\nEjercicio de escucha activa y reconocimiento de imágenes sensoriales.\nDiálogo: «Mi primer encuentro con la poesía»
URL:https://www.bne.gob.ec/event/poesia-1/
LOCATION:Auditorio Biblioteca Nacional Eugenio Espejo\, Sodiro y Valparaíso\, Quito\, Pichincha\, Ecuador
CATEGORIES:Escritura
ATTACH;FMTTYPE=image/jpeg:https://www.bne.gob.ec/wp-content/uploads/taller-poesia.jpg
END:VEVENT
END:VCALENDAR