BEGIN:VCALENDAR
VERSION:2.0
PRODID:-// - ECPv6.13.2.1//NONSGML v1.0//EN
CALSCALE:GREGORIAN
METHOD:PUBLISH
X-ORIGINAL-URL:https://www.bne.gob.ec
X-WR-CALDESC:Eventos para 
REFRESH-INTERVAL;VALUE=DURATION:PT1H
X-Robots-Tag:noindex
X-PUBLISHED-TTL:PT1H
BEGIN:VTIMEZONE
TZID:America/New_York
BEGIN:DAYLIGHT
TZOFFSETFROM:-0500
TZOFFSETTO:-0400
TZNAME:EDT
DTSTART:20250309T070000
END:DAYLIGHT
BEGIN:STANDARD
TZOFFSETFROM:-0400
TZOFFSETTO:-0500
TZNAME:EST
DTSTART:20251102T060000
END:STANDARD
END:VTIMEZONE
BEGIN:VEVENT
DTSTART;TZID=America/New_York:20250703T113000
DTEND;TZID=America/New_York:20250703T123000
DTSTAMP:20260420T182504
CREATED:20250602T201123Z
LAST-MODIFIED:20250609T234056Z
UID:6032-1751542200-1751545800@www.bne.gob.ec
SUMMARY:Descubre tu poesía-4- Temas poéticos: el mundo en verso
DESCRIPTION:Sesión 4: Temas poéticos: el mundo en verso\n\nTema: Exploración de temas recurrentes en la poesía: amor\, naturaleza\, muerte\, existencialismo\, crítica social. Cómo los poetas abordan diferentes realidades.\nActividades:\n\nLectura y discusión de poemas con diversas temáticas:\n\nMaría Auxiliadora Balladares: «El tiempo de los pájaros» o «La casa del viento». (Naturaleza\, memoria\, lo íntimo).\nJorge Enrique Adoum: «Ecuador amargo» o «El amor desenterrado». (Crítica social\, historia\, amor).\nFernando Cazón Vera: «Poemas del amor y el desamor». (Tema amoroso con una voz particular).\nIván Carvajal: «Los amantes de Sumpa»\, poemas de Inventando a Lennon.\n\n\nDebate sobre la relevancia de la poesía en la actualidad.\nEjercicio de escritura: elegir un tema personal y empezar a esbozar ideas en verso.
URL:https://www.bne.gob.ec/event/poesia-4/
LOCATION:Auditorio Biblioteca Nacional Eugenio Espejo\, Sodiro y Valparaíso\, Quito\, Pichincha\, Ecuador
CATEGORIES:Escritura
ATTACH;FMTTYPE=image/jpeg:https://www.bne.gob.ec/wp-content/uploads/pexels-evie-shaffer-1259279-4004375.jpg
END:VEVENT
BEGIN:VEVENT
DTSTART;TZID=America/New_York:20250708T140000
DTEND;TZID=America/New_York:20250708T150000
DTSTAMP:20260420T182504
CREATED:20250610T000408Z
LAST-MODIFIED:20250610T001510Z
UID:6335-1751983200-1751986800@www.bne.gob.ec
SUMMARY:Taller de narrativa 5- "Creación y profundidad en los personajes"
DESCRIPTION:Taller de narrativa 5- «Creación y profundidad en los personajes»
URL:https://www.bne.gob.ec/event/taller-de-narrativa-1-4/
CATEGORIES:Escritura
ATTACH;FMTTYPE=image/jpeg:https://www.bne.gob.ec/wp-content/uploads/hoja-en-blanco.jpg
END:VEVENT
BEGIN:VEVENT
DTSTART;TZID=America/New_York:20250710T113000
DTEND;TZID=America/New_York:20250710T123000
DTSTAMP:20260420T182504
CREATED:20250602T201511Z
LAST-MODIFIED:20250609T234218Z
UID:6035-1752147000-1752150600@www.bne.gob.ec
SUMMARY:Descubre tu poesía-5- Formas poéticas tradicionales y libres
DESCRIPTION:Sesión 5: Formas poéticas tradicionales y libres\n\nTema: Verso libre vs. formas fijas (soneto\, haiku\, copla). Ventajas y desafíos de cada una. La libertad creativa dentro de la estructura o fuera de ella.\nActividades:\n\nAnálisis de la estructura y libertad en distintos poemas:\n\nFrancisco de Quevedo: Un soneto clásico («Érase un hombre a una nariz pegado»).\nHaikus de Kobayashi Issa o Masaoka Shiki.\nWalt Whitman: fragmentos de «Canto a mí mismo» (el padre del verso libre).\nBlanca Varela: «Curriculum Vitae» o «Canto Villano». (Un ejemplo de verso libre profundo y depurado).\n\n\nEjercicio de escritura: intentar crear un haiku y un poema en verso libre sobre el mismo tema.\nTaller de desestructuración: tomar un poema con rima y «liberarlo» del esquema métrico.
URL:https://www.bne.gob.ec/event/descubre-tu-poesia-5/
LOCATION:Auditorio Biblioteca Nacional Eugenio Espejo\, Sodiro y Valparaíso\, Quito\, Pichincha\, Ecuador
CATEGORIES:Escritura
ATTACH;FMTTYPE=image/jpeg:https://www.bne.gob.ec/wp-content/uploads/pexels-jmeyer1220-1059682.jpg
END:VEVENT
BEGIN:VEVENT
DTSTART;TZID=America/New_York:20250715T140000
DTEND;TZID=America/New_York:20250715T153000
DTSTAMP:20260420T182504
CREATED:20250610T000539Z
LAST-MODIFIED:20250610T001610Z
UID:6336-1752588000-1752593400@www.bne.gob.ec
SUMMARY:Taller de narrativa 6- "El giro narrativo: cómo sorprender al lector"
DESCRIPTION:Taller de narrativa 6- «El giro narrativo: cómo sorprender al lector»
URL:https://www.bne.gob.ec/event/taller-de-narrativa-1-5/
CATEGORIES:Escritura
ATTACH;FMTTYPE=image/jpeg:https://www.bne.gob.ec/wp-content/uploads/hoja-en-blanco.jpg
END:VEVENT
BEGIN:VEVENT
DTSTART;TZID=America/New_York:20250717T113000
DTEND;TZID=America/New_York:20250717T123000
DTSTAMP:20260420T182504
CREATED:20250602T203118Z
LAST-MODIFIED:20250609T234351Z
UID:6038-1752751800-1752755400@www.bne.gob.ec
SUMMARY:Descubre tu poesía-6- La voz poética: encontrando el propio tono
DESCRIPTION:Sesión 6: La voz poética: encontrando el propio tono\n\nTema: La importancia de la autenticidad en la poesía. ¿Qué hace que un poema sea «tuyo»? La honestidad emocional y la singularidad de la mirada.\nActividades:\n\nLectura de poemas de autores con voces muy distintivas:\n\nEmily Dickinson: «Porque no pude detenerme por la Muerte». (Brevedad\, guiones\, mayúsculas inesperadas\, temas profundos).\nCharles Bukowski: «La gente delgada» o «El pájaro azul». (Realismo crudo\, lenguaje coloquial\, cinismo y ternura).\nAlejandra Pizarnik: «Árbol de Diana» o «Exilio». (Intensidad\, soledad\, búsqueda del lenguaje).\nSara Vanegas Coveña: «Los soles de la espera». (Voz íntima\, femenina y existencial).\n\n\nEjercicio de escritura: «Autorretrato poético» o «Poema de identidad».\nSesión de feedback constructivo entre los participantes sobre sus textos (si se sienten cómodos).
URL:https://www.bne.gob.ec/event/descubre-tu-poesia-6/
LOCATION:Auditorio Biblioteca Nacional Eugenio Espejo\, Sodiro y Valparaíso\, Quito\, Pichincha\, Ecuador
CATEGORIES:Escritura
ATTACH;FMTTYPE=image/jpeg:https://www.bne.gob.ec/wp-content/uploads/pexels-leigh-heasley-271055-816497.jpg
END:VEVENT
BEGIN:VEVENT
DTSTART;TZID=America/New_York:20250722T140000
DTEND;TZID=America/New_York:20250722T153000
DTSTAMP:20260420T182504
CREATED:20250610T000802Z
LAST-MODIFIED:20250610T001342Z
UID:6337-1753192800-1753198200@www.bne.gob.ec
SUMMARY:Taller de narrativa 7- "Exploración de los géneros narrativos"
DESCRIPTION:Taller de narrativa 7- «Exploración de los géneros narrativos»
URL:https://www.bne.gob.ec/event/taller-de-narrativa-1-6/
CATEGORIES:Escritura
ATTACH;FMTTYPE=image/jpeg:https://www.bne.gob.ec/wp-content/uploads/hoja-en-blanco.jpg
END:VEVENT
BEGIN:VEVENT
DTSTART;TZID=America/New_York:20250724T113000
DTEND;TZID=America/New_York:20250724T123000
DTSTAMP:20260420T182504
CREATED:20250602T203425Z
LAST-MODIFIED:20250609T234529Z
UID:6044-1753356600-1753360200@www.bne.gob.ec
SUMMARY:Descubre tu poesía-7- Corrección y edición: pulir el verso
DESCRIPTION:Sesión 7: Corrección y edición: pulir el verso\n\nTema: La poesía antes que inspiración\, es trabajo. Revisión\, pulido\, y eliminación de lo innecesario. Cómo leer tu propio poema con ojos críticos.\nActividades:\n\nDinámica de corrección: Los participantes traen un poema propio y lo revisan siguiendo pautas. Se pueden usar ejemplos de poemas conocidos (o incluso fragmentos «mal escritos» intencionalmente) para practicar la identificación de versos redundantes\, rimas forzadas\, imágenes confusas\, etc.\nEjercicios de «quitar lo que sobra» en versos y estrofas.\nDiscusión sobre la importancia de la lectura en voz alta para la corrección.
URL:https://www.bne.gob.ec/event/descubre-tu-poesia-7/
LOCATION:Auditorio Biblioteca Nacional Eugenio Espejo\, Sodiro y Valparaíso\, Quito\, Pichincha\, Ecuador
CATEGORIES:Escritura
ATTACH;FMTTYPE=image/jpeg:https://www.bne.gob.ec/wp-content/uploads/pexels-printproper-2822949.jpg
END:VEVENT
BEGIN:VEVENT
DTSTART;TZID=America/New_York:20250729T140000
DTEND;TZID=America/New_York:20250729T153000
DTSTAMP:20260420T182504
CREATED:20250610T000928Z
LAST-MODIFIED:20250610T001259Z
UID:6338-1753797600-1753803000@www.bne.gob.ec
SUMMARY:Taller de narrativa 8- "Realismo mágico: una mirada desde Latinoamérica"
DESCRIPTION:Taller de narrativa 8- «Realismo mágico: una mirada desde Latinoamérica»
URL:https://www.bne.gob.ec/event/taller-de-narrativa-1-7/
CATEGORIES:Escritura
ATTACH;FMTTYPE=image/jpeg:https://www.bne.gob.ec/wp-content/uploads/hoja-en-blanco.jpg
END:VEVENT
BEGIN:VEVENT
DTSTART;TZID=America/New_York:20250731T113000
DTEND;TZID=America/New_York:20250731T123000
DTSTAMP:20260420T182504
CREATED:20250602T203808Z
LAST-MODIFIED:20250609T234656Z
UID:6047-1753961400-1753965000@www.bne.gob.ec
SUMMARY:Descubre tu poesía-8- Publicación y difusión de la poesía
DESCRIPTION:Sesión 8: Publicación y difusión de la poesía\n\nTema: ¿Qué caminos existen para compartir la poesía? Revistas\, antologías\, recitales\, redes sociales. El rol de la Biblioteca Nacional en la difusión.\nActividades:\n\nExploración de plataformas para difusión de poesía en línea (ej. Facebook grupos de poesía\, blogs personales\, plataformas de autoedición\, concursos literarios).\nPreparación de lecturas para la sesión final: cada participante selecciona el poema que leerá en la clausura.
URL:https://www.bne.gob.ec/event/descubre-tu-poesia-8/
LOCATION:Auditorio Biblioteca Nacional Eugenio Espejo\, Sodiro y Valparaíso\, Quito\, Pichincha\, Ecuador
CATEGORIES:Escritura
ATTACH;FMTTYPE=image/jpeg:https://www.bne.gob.ec/wp-content/uploads/taller-poesia.jpg
END:VEVENT
END:VCALENDAR