BEGIN:VCALENDAR
VERSION:2.0
PRODID:-// - ECPv6.13.2.1//NONSGML v1.0//EN
CALSCALE:GREGORIAN
METHOD:PUBLISH
X-ORIGINAL-URL:https://www.bne.gob.ec
X-WR-CALDESC:Eventos para 
REFRESH-INTERVAL;VALUE=DURATION:PT1H
X-Robots-Tag:noindex
X-PUBLISHED-TTL:PT1H
BEGIN:VTIMEZONE
TZID:America/New_York
BEGIN:DAYLIGHT
TZOFFSETFROM:-0500
TZOFFSETTO:-0400
TZNAME:EDT
DTSTART:20250309T070000
END:DAYLIGHT
BEGIN:STANDARD
TZOFFSETFROM:-0400
TZOFFSETTO:-0500
TZNAME:EST
DTSTART:20251102T060000
END:STANDARD
END:VTIMEZONE
BEGIN:VEVENT
DTSTART;TZID=America/New_York:20250617T093000
DTEND;TZID=America/New_York:20250617T110000
DTSTAMP:20260422T015915
CREATED:20250531T143228Z
LAST-MODIFIED:20250609T224343Z
UID:5971-1750152600-1750158000@www.bne.gob.ec
SUMMARY:Cuentacuentos "El destino de Fausto"
DESCRIPTION:«El destino de Fausto» se refiere a un libro infantil ilustrado de Oliver Jeffers\, que cuenta una fábula sobre un hombre que cree que todo le pertenece. En la historia\, Fausto\, en un acto de codicia y soberbia\, intenta apropiarse de la naturaleza\, pero se enfrenta a las consecuencias de su actitud. La historia invita a la reflexión sobre la relación entre la humanidad y la naturaleza\, y sobre la importancia del respeto y la humildad.
URL:https://www.bne.gob.ec/event/cuentacuentos-fausto/
LOCATION:Auditorio Biblioteca Nacional Eugenio Espejo\, Sodiro y Valparaíso\, Quito\, Pichincha\, Ecuador
CATEGORIES:Cuentacuentos
ATTACH;FMTTYPE=image/jpeg:https://www.bne.gob.ec/wp-content/uploads/El-destino-de-fausto-1-scaled-1.jpg
END:VEVENT
END:VCALENDAR