BEGIN:VCALENDAR
VERSION:2.0
PRODID:-// - ECPv6.13.2.1//NONSGML v1.0//EN
CALSCALE:GREGORIAN
METHOD:PUBLISH
X-ORIGINAL-URL:https://www.bne.gob.ec
X-WR-CALDESC:Eventos para 
REFRESH-INTERVAL;VALUE=DURATION:PT1H
X-Robots-Tag:noindex
X-PUBLISHED-TTL:PT1H
BEGIN:VTIMEZONE
TZID:America/New_York
BEGIN:DAYLIGHT
TZOFFSETFROM:-0500
TZOFFSETTO:-0400
TZNAME:EDT
DTSTART:20250309T070000
END:DAYLIGHT
BEGIN:STANDARD
TZOFFSETFROM:-0400
TZOFFSETTO:-0500
TZNAME:EST
DTSTART:20251102T060000
END:STANDARD
END:VTIMEZONE
BEGIN:VEVENT
DTSTART;TZID=America/New_York:20250613T093000
DTEND;TZID=America/New_York:20250613T103000
DTSTAMP:20260422T015920
CREATED:20250531T141021Z
LAST-MODIFIED:20250609T224144Z
UID:5954-1749807000-1749810600@www.bne.gob.ec
SUMMARY:Cuentacuentos "El increible niño comelibros"
DESCRIPTION:Esta es la historia de Enrique\, un niño al que le encantan los libros\, pero no como a cualquier niño pueden gustarle. Un día\, mientras tenía en una mano una paleta y en la otra un libro\, Enrique\, distraídamente\, probó el libro. Notó que le gustaba\, y aunque tenía sus dudas decidió comerse primero una palabra\, luego una oración y\, después\, una página. Un par de días después ya se había comido un libro entero. Inexplicablemente el conocimiento que contenían los libros llegaba al cerebro de Enrique y pensó que con esto en poco tiempo podría ser la persona más lista del mundo\, pero de pronto todo empezó a complicarse.
URL:https://www.bne.gob.ec/event/cuentacuentos-comelibros/
LOCATION:Auditorio Biblioteca Nacional Eugenio Espejo\, Sodiro y Valparaíso\, Quito\, Pichincha\, Ecuador
CATEGORIES:Cuentacuentos
ATTACH;FMTTYPE=image/jpeg:https://www.bne.gob.ec/wp-content/uploads/elincreiblenino-1.jpg
END:VEVENT
END:VCALENDAR