BEGIN:VCALENDAR
VERSION:2.0
PRODID:-// - ECPv6.13.2.1//NONSGML v1.0//EN
CALSCALE:GREGORIAN
METHOD:PUBLISH
X-ORIGINAL-URL:https://www.bne.gob.ec
X-WR-CALDESC:Eventos para 
REFRESH-INTERVAL;VALUE=DURATION:PT1H
X-Robots-Tag:noindex
X-PUBLISHED-TTL:PT1H
BEGIN:VTIMEZONE
TZID:America/New_York
BEGIN:DAYLIGHT
TZOFFSETFROM:-0500
TZOFFSETTO:-0400
TZNAME:EDT
DTSTART:20250309T070000
END:DAYLIGHT
BEGIN:STANDARD
TZOFFSETFROM:-0400
TZOFFSETTO:-0500
TZNAME:EST
DTSTART:20251102T060000
END:STANDARD
END:VTIMEZONE
BEGIN:VEVENT
DTSTART;TZID=America/New_York:20250611T140000
DTEND;TZID=America/New_York:20250611T150000
DTSTAMP:20260422T000230
CREATED:20250531T135146Z
LAST-MODIFIED:20250609T224017Z
UID:5943-1749650400-1749654000@www.bne.gob.ec
SUMMARY:Club de lectura: Los Sangurimas (De la Cuadra)
DESCRIPTION:Club de lectura: Los Sangurimas (De la Cuadra)
URL:https://www.bne.gob.ec/event/club-los-sangurimas-1/
LOCATION:Auditorio Biblioteca Nacional Eugenio Espejo\, Sodiro y Valparaíso\, Quito\, Pichincha\, Ecuador
CATEGORIES:Club de lectura
ATTACH;FMTTYPE=image/jpeg:https://www.bne.gob.ec/wp-content/uploads/phoca_thumb_l_129262-Caserio-Montubio.jpg
END:VEVENT
BEGIN:VEVENT
DTSTART;TZID=America/New_York:20250613T140000
DTEND;TZID=America/New_York:20250613T153000
DTSTAMP:20260422T000230
CREATED:20250531T141700Z
LAST-MODIFIED:20250611T141031Z
UID:5958-1749823200-1749828600@www.bne.gob.ec
SUMMARY:Club de lectura: Habitaciones con música de fondo (Zaldumbide)
DESCRIPTION:Con este libro\, Alexis Zaldumbide se llevó el premio Aurelio Espinosa Pólit en el año 2018. Los personajes de estos cuentos no habitan lugares con una música de fondo sino que\, al revés\, ellos son portadores de un indetenible y profundo rumor interno. Una voz\, una melodía o un ruido\, según el caso\, que los atormentan en el silencio de su solitaria condición\, abriendo una brecha para separarlos del mundo que ven y donde aparecen participar. Porque esa zanja sonora\, el fluir de las palabras que componen estos cuentos\, es lo que les aleja de otras personas\, de otras relaciones\, de una salida de esa soledad en que viven.
URL:https://www.bne.gob.ec/event/club-habitaciones-1/
LOCATION:Auditorio Biblioteca Nacional Eugenio Espejo\, Sodiro y Valparaíso\, Quito\, Pichincha\, Ecuador
CATEGORIES:Club de lectura
ATTACH;FMTTYPE=image/jpeg:https://www.bne.gob.ec/wp-content/uploads/musicadefondovale.jpg
END:VEVENT
BEGIN:VEVENT
DTSTART;TZID=America/New_York:20250618T140000
DTEND;TZID=America/New_York:20250618T150000
DTSTAMP:20260422T000230
CREATED:20250602T205558Z
LAST-MODIFIED:20250609T224442Z
UID:6057-1750255200-1750258800@www.bne.gob.ec
SUMMARY:Club de lectura: Los Sangurimas (De la Cuadra)
DESCRIPTION:Club de lectura: Los Sangurimas (De la Cuadra)
URL:https://www.bne.gob.ec/event/club-sangurimas-2/
LOCATION:Auditorio Biblioteca Nacional Eugenio Espejo\, Sodiro y Valparaíso\, Quito\, Pichincha\, Ecuador
CATEGORIES:Club de lectura
ATTACH;FMTTYPE=image/jpeg:https://www.bne.gob.ec/wp-content/uploads/phoca_thumb_l_129262-Caserio-Montubio.jpg
END:VEVENT
BEGIN:VEVENT
DTSTART;TZID=America/New_York:20250625T140000
DTEND;TZID=America/New_York:20250625T150000
DTSTAMP:20260422T000230
CREATED:20250602T205732Z
LAST-MODIFIED:20250609T224747Z
UID:6059-1750860000-1750863600@www.bne.gob.ec
SUMMARY:Club de lectura: Los Sangurimas (De la Cuadra)
DESCRIPTION:Club de lectura: Los Sangurimas (De la Cuadra)
URL:https://www.bne.gob.ec/event/club-los-sangurimas-3/
LOCATION:Auditorio Biblioteca Nacional Eugenio Espejo\, Sodiro y Valparaíso\, Quito\, Pichincha\, Ecuador
CATEGORIES:Club de lectura
ATTACH;FMTTYPE=image/jpeg:https://www.bne.gob.ec/wp-content/uploads/phoca_thumb_l_129262-Caserio-Montubio.jpg
END:VEVENT
END:VCALENDAR