BEGIN:VCALENDAR
VERSION:2.0
PRODID:-// - ECPv6.13.2.1//NONSGML v1.0//EN
CALSCALE:GREGORIAN
METHOD:PUBLISH
X-ORIGINAL-URL:https://www.bne.gob.ec
X-WR-CALDESC:Eventos para 
REFRESH-INTERVAL;VALUE=DURATION:PT1H
X-Robots-Tag:noindex
X-PUBLISHED-TTL:PT1H
BEGIN:VTIMEZONE
TZID:America/New_York
BEGIN:DAYLIGHT
TZOFFSETFROM:-0500
TZOFFSETTO:-0400
TZNAME:EDT
DTSTART:20250309T070000
END:DAYLIGHT
BEGIN:STANDARD
TZOFFSETFROM:-0400
TZOFFSETTO:-0500
TZNAME:EST
DTSTART:20251102T060000
END:STANDARD
END:VTIMEZONE
BEGIN:VEVENT
DTSTART;TZID=America/New_York:20250801T170000
DTEND;TZID=America/New_York:20250801T190000
DTSTAMP:20260420T054920
CREATED:20250605T191005Z
LAST-MODIFIED:20250606T154901Z
UID:6195-1754067600-1754074800@www.bne.gob.ec
SUMMARY:Cine en la Biblioteca: Fuera de juego
DESCRIPTION:En esta cinta de Víctor Arregui\, Juan es un joven ecuatoriano de origen pobre que sueña con emigrar a España para escapar de la terrible situación de su país. En busca del dinero que necesitará para hacer realidad su sueño\, termina involucrándose en actos delincuenciales\, por su desesperación y los efectos que sobre su familia y el entorno que lo rodea ocasionado por el colapso social\, económico y moral de su país.
URL:https://www.bne.gob.ec/event/cine-en-la-biblioteca-juego-3/
LOCATION:Auditorio Biblioteca Nacional Eugenio Espejo\, Sodiro y Valparaíso\, Quito\, Pichincha\, Ecuador
CATEGORIES:Cine
ATTACH;FMTTYPE=image/jpeg:https://www.bne.gob.ec/wp-content/uploads/MV5BYjc5N2IxOTctNDJlMy00MDAzLWE5ZmItYWExODczNmExZTE5XkEyXkFqcGc._V1_FMjpg_UX1000_.jpg
END:VEVENT
BEGIN:VEVENT
DTSTART;TZID=America/New_York:20250802T170000
DTEND;TZID=America/New_York:20250802T190000
DTSTAMP:20260420T054920
CREATED:20250605T191028Z
LAST-MODIFIED:20250606T154746Z
UID:6197-1754154000-1754161200@www.bne.gob.ec
SUMMARY:Cine en la Biblioteca: Fuera de juego
DESCRIPTION:En esta cinta de Víctor Arregui\, Juan es un joven ecuatoriano de origen pobre que sueña con emigrar a España para escapar de la terrible situación de su país. En busca del dinero que necesitará para hacer realidad su sueño\, termina involucrándose en actos delincuenciales\, por su desesperación y los efectos que sobre su familia y el entorno que lo rodea ocasionado por el colapso social\, económico y moral de su país. \n 
URL:https://www.bne.gob.ec/event/cine-en-la-biblioteca-juego-4/
LOCATION:Auditorio Biblioteca Nacional Eugenio Espejo\, Sodiro y Valparaíso\, Quito\, Pichincha\, Ecuador
CATEGORIES:Cine
ATTACH;FMTTYPE=image/jpeg:https://www.bne.gob.ec/wp-content/uploads/MV5BYjc5N2IxOTctNDJlMy00MDAzLWE5ZmItYWExODczNmExZTE5XkEyXkFqcGc._V1_FMjpg_UX1000_.jpg
END:VEVENT
BEGIN:VEVENT
DTSTART;TZID=America/New_York:20250804T080000
DTEND;TZID=America/New_York:20250809T170000
DTSTAMP:20260420T054920
CREATED:20250605T193924Z
LAST-MODIFIED:20250606T154618Z
UID:6212-1754294400-1754758800@www.bne.gob.ec
SUMMARY:Festival BajoNuestraPiel.Ec
DESCRIPTION:Festival Internacional de Cine sobre Derechos Humanos en Ecuador. \nHistorias que revelan\, conmueven y despiertan. \n  \nPronto\, programación detallada.
URL:https://www.bne.gob.ec/event/festival-de-cine-bajonuestrapiel-ec/
CATEGORIES:Cine
ATTACH;FMTTYPE=image/jpeg:https://www.bne.gob.ec/wp-content/uploads/piel.jpg
END:VEVENT
END:VCALENDAR