BEGIN:VCALENDAR
VERSION:2.0
PRODID:-// - ECPv6.13.2.1//NONSGML v1.0//EN
CALSCALE:GREGORIAN
METHOD:PUBLISH
X-ORIGINAL-URL:https://www.bne.gob.ec
X-WR-CALDESC:Eventos para 
REFRESH-INTERVAL;VALUE=DURATION:PT1H
X-Robots-Tag:noindex
X-PUBLISHED-TTL:PT1H
BEGIN:VTIMEZONE
TZID:America/New_York
BEGIN:DAYLIGHT
TZOFFSETFROM:-0500
TZOFFSETTO:-0400
TZNAME:EDT
DTSTART:20250309T070000
END:DAYLIGHT
BEGIN:STANDARD
TZOFFSETFROM:-0400
TZOFFSETTO:-0500
TZNAME:EST
DTSTART:20251102T060000
END:STANDARD
END:VTIMEZONE
BEGIN:VEVENT
DTSTART;TZID=America/New_York:20250703T173000
DTEND;TZID=America/New_York:20250703T190000
DTSTAMP:20260420T073244
CREATED:20250605T185205Z
LAST-MODIFIED:20250624T144445Z
UID:6182-1751563800-1751569200@www.bne.gob.ec
SUMMARY:Cine en la Biblioteca: Galápagos paraíso en pérdida
DESCRIPTION:«Galápagos: paraíso en pérdida» es un documental enfocado en la reflexión sobre la relación entre los seres humanos y la naturaleza\, contada desde la perspectiva de los habitantes de la isla Santa Cruz en las Islas Galápagos\, quienes nos revelan su realidad\, la actual situación socio económica y política de la Isla y cómo buscan encontrar el equilibrio con la naturaleza para generar un futuro sostenible en su entorno.
URL:https://www.bne.gob.ec/event/cine-en-la-biblioteca-galapagos/
LOCATION:Auditorio Biblioteca Nacional Eugenio Espejo\, Sodiro y Valparaíso\, Quito\, Pichincha\, Ecuador
CATEGORIES:Cine
ATTACH;FMTTYPE=image/jpeg:https://www.bne.gob.ec/wp-content/uploads/GPP_Afiche1080x1920-REDES.jpg
END:VEVENT
BEGIN:VEVENT
DTSTART;TZID=America/New_York:20250704T173000
DTEND;TZID=America/New_York:20250704T190000
DTSTAMP:20260420T073244
CREATED:20250605T185843Z
LAST-MODIFIED:20250624T144411Z
UID:6185-1751650200-1751655600@www.bne.gob.ec
SUMMARY:Cine en la Biblioteca: Galápagos paraíso en pérdida
DESCRIPTION:«Galápagos: paraíso en pérdida» es un documental enfocado en la reflexión sobre la relación entre los seres humanos y la naturaleza\, contada desde la perspectiva de los habitantes de la isla Santa Cruz en las Islas Galápagos\, quienes nos revelan su realidad\, la actual situación socio económica y política de la Isla y cómo buscan encontrar el equilibrio con la naturaleza para generar un futuro sostenible en su entorno.
URL:https://www.bne.gob.ec/event/cine-en-la-biblioteca-galapagos-2/
LOCATION:Auditorio Biblioteca Nacional Eugenio Espejo\, Sodiro y Valparaíso\, Quito\, Pichincha\, Ecuador
CATEGORIES:Cine
ATTACH;FMTTYPE=image/jpeg:https://www.bne.gob.ec/wp-content/uploads/GPP_Afiche1080x1920-REDES.jpg
END:VEVENT
BEGIN:VEVENT
DTSTART;TZID=America/New_York:20250705T150000
DTEND;TZID=America/New_York:20250705T170000
DTSTAMP:20260420T073244
CREATED:20250605T185914Z
LAST-MODIFIED:20250624T144324Z
UID:6187-1751727600-1751734800@www.bne.gob.ec
SUMMARY:Cine en la Biblioteca: Galápagos paraíso en pérdida
DESCRIPTION:«Galápagos: paraíso en pérdida» es un documental enfocado en la reflexión sobre la relación entre los seres humanos y la naturaleza\, contada desde la perspectiva de los habitantes de la isla Santa Cruz en las Islas Galápagos\, quienes nos revelan su realidad\, la actual situación socio económica y política de la Isla y cómo buscan encontrar el equilibrio con la naturaleza para generar un futuro sostenible en su entorno.
URL:https://www.bne.gob.ec/event/cine-en-la-biblioteca-galapagos-3/
LOCATION:Auditorio Biblioteca Nacional Eugenio Espejo\, Sodiro y Valparaíso\, Quito\, Pichincha\, Ecuador
CATEGORIES:Cine
ATTACH;FMTTYPE=image/jpeg:https://www.bne.gob.ec/wp-content/uploads/GPP_Afiche1080x1920-REDES.jpg
END:VEVENT
BEGIN:VEVENT
DTSTART;TZID=America/New_York:20250710T170000
DTEND;TZID=America/New_York:20250718T213000
DTSTAMP:20260420T073244
CREATED:20250605T192853Z
LAST-MODIFIED:20250612T210458Z
UID:6209-1752166800-1752874200@www.bne.gob.ec
SUMMARY:6to. Festival Ecuatoriano Turicine
DESCRIPTION:El Festival Turicine (FECT)\, organizado por el Grupo Turicine\, busca impulsar y difundir la producción cinematográfica nacional\, a través de la interacción entre los talentos locales y el público en general para expandirse hacia todos los rincones del país e incentivar la formación de públicos en el territorio ecuatoriano. La edición 2025 del FECT se realiza con el apoyo del Ministerio de Cultura y Patrimonio y el Instituto de Fomento a la Creatividad y la Innovación.
URL:https://www.bne.gob.ec/event/6to-festival-ecuatoriano-turicine/
LOCATION:Auditorio Biblioteca Nacional Eugenio Espejo\, Sodiro y Valparaíso\, Quito\, Pichincha\, Ecuador
CATEGORIES:Cine
ATTACH;FMTTYPE=image/jpeg:https://www.bne.gob.ec/wp-content/uploads/turicine.jpg
END:VEVENT
BEGIN:VEVENT
DTSTART;TZID=America/New_York:20250719T150000
DTEND;TZID=America/New_York:20250719T170000
DTSTAMP:20260420T073244
CREATED:20250605T190503Z
LAST-MODIFIED:20250717T212305Z
UID:6189-1752937200-1752944400@www.bne.gob.ec
SUMMARY:Cine en la Biblioteca: Fuera de juego
DESCRIPTION:En esta cinta de Víctor Arregui\, Juan es un joven ecuatoriano de origen pobre que sueña con emigrar a España para escapar de la terrible situación de su país. En busca del dinero que necesitará para hacer realidad su sueño\, termina involucrándose en actos delincuenciales\, por su desesperación y los efectos que sobre su familia y el entorno que lo rodea ocasionado por el colapso social\, económico y moral de su país.
URL:https://www.bne.gob.ec/event/cine-en-la-biblioteca-juego/
LOCATION:Auditorio Biblioteca Nacional Eugenio Espejo\, Sodiro y Valparaíso\, Quito\, Pichincha\, Ecuador
CATEGORIES:Cine
ATTACH;FMTTYPE=image/jpeg:https://www.bne.gob.ec/wp-content/uploads/MV5BYjc5N2IxOTctNDJlMy00MDAzLWE5ZmItYWExODczNmExZTE5XkEyXkFqcGc._V1_FMjpg_UX1000_.jpg
END:VEVENT
BEGIN:VEVENT
DTSTART;TZID=America/New_York:20250724T173000
DTEND;TZID=America/New_York:20250724T190000
DTSTAMP:20260420T073244
CREATED:20250605T191139Z
LAST-MODIFIED:20250624T144220Z
UID:6199-1753378200-1753383600@www.bne.gob.ec
SUMMARY:Cine en la Biblioteca: La sabudiuría de Tistsanu
DESCRIPTION:Una comunidad Sapara en medio de la Amazonía ecuatoriana es habitada por Juan Gualinga y sus hijos. El río\, su caudal y la memoria oral del Cuyacocha cuenta la historia ancestral y sus prácticas culturales de su pueblo que están por desaparecer.
URL:https://www.bne.gob.ec/event/cine-en-la-biblioteca-tistsanu/
LOCATION:Auditorio Biblioteca Nacional Eugenio Espejo\, Sodiro y Valparaíso\, Quito\, Pichincha\, Ecuador
CATEGORIES:Cine
ATTACH;FMTTYPE=image/jpeg:https://www.bne.gob.ec/wp-content/uploads/TSITSANU-FINA.jpg
END:VEVENT
BEGIN:VEVENT
DTSTART;TZID=America/New_York:20250725T173000
DTEND;TZID=America/New_York:20250725T190000
DTSTAMP:20260420T073244
CREATED:20250605T191522Z
LAST-MODIFIED:20250624T144152Z
UID:6202-1753464600-1753470000@www.bne.gob.ec
SUMMARY:Cine en la Biblioteca: La sabiduría de Tistsanu
DESCRIPTION:Una comunidad Sapara en medio de la Amazonía ecuatoriana es habitada por Juan Gualinga y sus hijos. El río\, su caudal y la memoria oral del Cuyacocha cuenta la historia ancestral y sus prácticas culturales de su pueblo que están por desaparecer.
URL:https://www.bne.gob.ec/event/cine-en-la-biblioteca-tistsanu-2/
LOCATION:Auditorio Biblioteca Nacional Eugenio Espejo\, Sodiro y Valparaíso\, Quito\, Pichincha\, Ecuador
CATEGORIES:Cine
ATTACH;FMTTYPE=image/jpeg:https://www.bne.gob.ec/wp-content/uploads/TSITSANU-FINA.jpg
END:VEVENT
BEGIN:VEVENT
DTSTART;TZID=America/New_York:20250726T150000
DTEND;TZID=America/New_York:20250726T170000
DTSTAMP:20260420T073244
CREATED:20250605T191546Z
LAST-MODIFIED:20250624T144123Z
UID:6204-1753542000-1753549200@www.bne.gob.ec
SUMMARY:Cine en la Biblioteca: La sabiduría de Tistsanu
DESCRIPTION:Una comunidad Sapara en medio de la Amazonía ecuatoriana es habitada por Juan Gualinga y sus hijos. El río\, su caudal y la memoria oral del Cuyacocha cuenta la historia ancestral y sus prácticas culturales de su pueblo que están por desaparecer.
URL:https://www.bne.gob.ec/event/cine-en-la-biblioteca-tistsanu-3/
LOCATION:Auditorio Biblioteca Nacional Eugenio Espejo\, Sodiro y Valparaíso\, Quito\, Pichincha\, Ecuador
CATEGORIES:Cine
ATTACH;FMTTYPE=image/jpeg:https://www.bne.gob.ec/wp-content/uploads/TSITSANU-FINA.jpg
END:VEVENT
BEGIN:VEVENT
DTSTART;TZID=America/New_York:20250731T170000
DTEND;TZID=America/New_York:20250731T190000
DTSTAMP:20260420T073244
CREATED:20250605T190852Z
LAST-MODIFIED:20250606T155016Z
UID:6193-1753981200-1753988400@www.bne.gob.ec
SUMMARY:Cine en la Biblioteca: Fuera de juego
DESCRIPTION:En esta cinta de Víctor Arregui\, Juan es un joven ecuatoriano de origen pobre que sueña con emigrar a España para escapar de la terrible situación de su país. En busca del dinero que necesitará para hacer realidad su sueño\, termina involucrándose en actos delincuenciales\, por su desesperación y los efectos que sobre su familia y el entorno que lo rodea ocasionado por el colapso social\, económico y moral de su país.
URL:https://www.bne.gob.ec/event/cine-en-la-biblioteca-juego-2/
LOCATION:Auditorio Biblioteca Nacional Eugenio Espejo\, Sodiro y Valparaíso\, Quito\, Pichincha\, Ecuador
CATEGORIES:Cine
ATTACH;FMTTYPE=image/jpeg:https://www.bne.gob.ec/wp-content/uploads/MV5BYjc5N2IxOTctNDJlMy00MDAzLWE5ZmItYWExODczNmExZTE5XkEyXkFqcGc._V1_FMjpg_UX1000_.jpg
END:VEVENT
END:VCALENDAR