BEGIN:VCALENDAR
VERSION:2.0
PRODID:-// - ECPv6.13.2.1//NONSGML v1.0//EN
CALSCALE:GREGORIAN
METHOD:PUBLISH
X-ORIGINAL-URL:https://www.bne.gob.ec
X-WR-CALDESC:Eventos para 
REFRESH-INTERVAL;VALUE=DURATION:PT1H
X-Robots-Tag:noindex
X-PUBLISHED-TTL:PT1H
BEGIN:VTIMEZONE
TZID:America/New_York
BEGIN:DAYLIGHT
TZOFFSETFROM:-0500
TZOFFSETTO:-0400
TZNAME:EDT
DTSTART:20250309T070000
END:DAYLIGHT
BEGIN:STANDARD
TZOFFSETFROM:-0400
TZOFFSETTO:-0500
TZNAME:EST
DTSTART:20251102T060000
END:STANDARD
END:VTIMEZONE
BEGIN:VEVENT
DTSTART;TZID=America/New_York:20250612T170000
DTEND;TZID=America/New_York:20250612T183000
DTSTAMP:20260420T090556
CREATED:20250531T140840Z
LAST-MODIFIED:20250610T002232Z
UID:5952-1749747600-1749753000@www.bne.gob.ec
SUMMARY:Cine en la Biblioteca: 7 muros
DESCRIPTION:Esta película documental del director Daniel Yépez Brito propone una exploración del significado de los muros: los del vecindario\, los de la casa\, los de la propia mente. Luego de 20 años de vivir en la misma casa en la ciudad de Quito\, Daniel decide mudarse\, pero se da cuenta que nunca ha conocido a ninguno de sus vecinos\, por lo que antes de su partida\, decide explorar en la vida de cada uno de ellos\, descubriendo la importancia de romper su propio muro para poder ingresar a la vida del “otro”. \n 
URL:https://www.bne.gob.ec/event/cine-7-muros/
LOCATION:Auditorio Biblioteca Nacional Eugenio Espejo\, Sodiro y Valparaíso\, Quito\, Pichincha\, Ecuador
CATEGORIES:Cine
ATTACH;FMTTYPE=image/jpeg:https://www.bne.gob.ec/wp-content/uploads/7-MUROS-1.jpg
END:VEVENT
BEGIN:VEVENT
DTSTART;TZID=America/New_York:20250613T170000
DTEND;TZID=America/New_York:20250613T183000
DTSTAMP:20260420T090556
CREATED:20250605T183428Z
LAST-MODIFIED:20250610T002331Z
UID:6162-1749834000-1749839400@www.bne.gob.ec
SUMMARY:Cine en la Biblioteca: 7 muros
DESCRIPTION:Esta película del director Daniel Yépez Brito propone una exploración del significado de los muros: los del vecindario\, los de la casa\, los de la propia mente. Luego de 20 años de vivir en la misma casa en la ciudad de Quito\, Daniel decide mudarse\, pero se da cuenta que nunca ha conocido a ninguno de sus vecinos\, por lo que antes de su partida\, decide explorar en la vida de cada uno de ellos\, descubriendo la importancia de romper su propio muro para poder ingresar a la vida del “otro”. \n 
URL:https://www.bne.gob.ec/event/cine-7-muros-2/
LOCATION:Auditorio Biblioteca Nacional Eugenio Espejo\, Sodiro y Valparaíso\, Quito\, Pichincha\, Ecuador
CATEGORIES:Cine
ATTACH;FMTTYPE=image/jpeg:https://www.bne.gob.ec/wp-content/uploads/7-MUROS-1.jpg
END:VEVENT
BEGIN:VEVENT
DTSTART;TZID=America/New_York:20250614T150000
DTEND;TZID=America/New_York:20250614T163000
DTSTAMP:20260420T090556
CREATED:20250605T183455Z
LAST-MODIFIED:20250610T180341Z
UID:6164-1749913200-1749918600@www.bne.gob.ec
SUMMARY:Cine en la Biblioteca: 7 muros
DESCRIPTION:Esta película del director Daniel Yépez Brito\, estrenada en 2016\, propone una exploración del significado de los muros: los del vecindario\, los de la casa\, los de la propia mente. Luego de 20 años de vivir en la misma casa en la ciudad de Quito\, Daniel decide mudarse\, pero se da cuenta que nunca ha conocido a ninguno de sus vecinos\, por lo que antes de su partida\, decide explorar en la vida de cada uno de ellos\, descubriendo la importancia de romper su propio muro para poder ingresar a la vida del “otro”. \n 
URL:https://www.bne.gob.ec/event/cine-7-muros-3/
LOCATION:Auditorio Biblioteca Nacional Eugenio Espejo\, Sodiro y Valparaíso\, Quito\, Pichincha\, Ecuador
CATEGORIES:Cine
ATTACH;FMTTYPE=image/jpeg:https://www.bne.gob.ec/wp-content/uploads/7-MUROS-1.jpg
END:VEVENT
BEGIN:VEVENT
DTSTART;TZID=America/New_York:20250619T173000
DTEND;TZID=America/New_York:20250619T190000
DTSTAMP:20260420T090556
CREATED:20250605T183755Z
LAST-MODIFIED:20250616T213058Z
UID:6167-1750354200-1750359600@www.bne.gob.ec
SUMMARY:Cine en la Biblioteca: Cuando me toque a mí
DESCRIPTION:Víctor Arregui\, en el 2006\, estrenó “Cuando me toque a mi” una película basada en la novela ‘De que nada se sabe’ del escritor Alfredo Noriega. Este film cuenta la historia de un médico forense que a diario se enfrenta a la muerte.  Su primera proyección se realizó con éxito en Festival de Biarritz (Francia)\, desde entonces ha recorrido varias ciudades de Ecuador y el mundo. \n\nEl amor\, el azar\, la ciudad y la muerte. Estos elementos se conjugan de mil maneras para precipitar los destinos del médico legista Arturo Fernández\, su madre\, su hermano\, su asistente\, una interna del hospital\, un taxista\, un migrante de la costa\, una mujer\, su hijo\, su ex marido y su amante. Dios los cría y Quito los junta. La muerte los iguala.\n\n 
URL:https://www.bne.gob.ec/event/cine-en-la-biblioteca-cuando-me-toque/
LOCATION:Auditorio Biblioteca Nacional Eugenio Espejo\, Sodiro y Valparaíso\, Quito\, Pichincha\, Ecuador
CATEGORIES:Cine
ATTACH;FMTTYPE=image/jpeg:https://www.bne.gob.ec/wp-content/uploads/cuando-me-toque-a-mi.jpg
END:VEVENT
BEGIN:VEVENT
DTSTART;TZID=America/New_York:20250620T173000
DTEND;TZID=America/New_York:20250620T190000
DTSTAMP:20260420T090556
CREATED:20250605T184312Z
LAST-MODIFIED:20250616T213131Z
UID:6170-1750440600-1750446000@www.bne.gob.ec
SUMMARY:Cine en la Biblioteca: Cuando me toque a mí
DESCRIPTION:Víctor Arregui\, en el 2006\, estrenó “Cuando me toque a mi” una película basada en la novela ‘De que nada se sabe’ del escritor Alfredo Noriega. Este film cuenta la historia de un médico forense que a diario se enfrenta a la muerte.  Su primera proyección se realizó con éxito en Festival de Biarritz (Francia)\, desde entonces ha recorrido varias ciudades de Ecuador y el mundo. \n\nEl amor\, el azar\, la ciudad y la muerte. Estos elementos se conjugan de mil maneras para precipitar los destinos del médico legista Arturo Fernández\, su madre\, su hermano\, su asistente\, una interna del hospital\, un taxista\, un migrante de la costa\, una mujer\, su hijo\, su ex marido y su amante. Dios los cría y Quito los junta. La muerte los iguala.\n\n 
URL:https://www.bne.gob.ec/event/cine-cuando-me-toque-2/
LOCATION:Auditorio Biblioteca Nacional Eugenio Espejo\, Sodiro y Valparaíso\, Quito\, Pichincha\, Ecuador
CATEGORIES:Cine
ATTACH;FMTTYPE=image/jpeg:https://www.bne.gob.ec/wp-content/uploads/cuando-me-toque-a-mi.jpg
END:VEVENT
BEGIN:VEVENT
DTSTART;TZID=America/New_York:20250621T150000
DTEND;TZID=America/New_York:20250621T170000
DTSTAMP:20260420T090556
CREATED:20250605T184348Z
LAST-MODIFIED:20250611T165430Z
UID:6172-1750518000-1750525200@www.bne.gob.ec
SUMMARY:Cine en la Biblioteca: Cuando me toque a mí
DESCRIPTION:Víctor Arregui\, en el 2006\, estrenó “Cuando me toque a mi” una película basada en la novela ‘De que nada se sabe’ del escritor Alfredo Noriega. Este film cuenta la historia de un médico forense que a diario se enfrenta a la muerte.  Su primera proyección se realizó con éxito en Festival de Biarritz (Francia)\, desde entonces ha recorrido varias ciudades de Ecuador y el mundo. \n\nEl amor\, el azar\, la ciudad y la muerte. Estos elementos se conjugan de mil maneras para precipitar los destinos del médico legista Arturo Fernández\, su madre\, su hermano\, su asistente\, una interna del hospital\, un taxista\, un migrante de la costa\, una mujer\, su hijo\, su ex marido y su amante. Dios los cría y Quito los junta. La muerte los iguala.\n\n 
URL:https://www.bne.gob.ec/event/cine-cuando-me-toque-3/
LOCATION:Auditorio Biblioteca Nacional Eugenio Espejo\, Sodiro y Valparaíso\, Quito\, Pichincha\, Ecuador
CATEGORIES:Cine
ATTACH;FMTTYPE=image/jpeg:https://www.bne.gob.ec/wp-content/uploads/cuando-me-toque-a-mi.jpg
END:VEVENT
BEGIN:VEVENT
DTSTART;TZID=America/New_York:20250626T173000
DTEND;TZID=America/New_York:20250626T190000
DTSTAMP:20260420T090556
CREATED:20250605T184511Z
LAST-MODIFIED:20250623T174636Z
UID:6174-1750959000-1750964400@www.bne.gob.ec
SUMMARY:Cine en la Biblioteca: El facilitador
DESCRIPTION:Miguel\, un exitoso hombre de negocios\, desahuciado por un cáncer terminal pide a su hija Elena que regrese al Ecuador para que le acompañe en su enfermedad. La relación entre ellos es fría y tensa; ella se dedica al alcohol y a las drogas\, por lo que Miguel le pide que se vaya por un tiempo a la hacienda de su abuelo. \nAbuelo y tíos\, en la vieja casa de hacienda\, viven su decadencia física\, económica y social\, añorando los años de apogeo. Allí Elena se reencuentra con Galo\, amigo de infancia quien le invita a participar en una minga de limpieza del canal de riego. Ella queda impactada por la cultura indígena y los espectaculares paisajes andinos\, y se involucra con Galo en las tareas de organización de las comunidades.
URL:https://www.bne.gob.ec/event/cine-facilitador/
LOCATION:Auditorio Biblioteca Nacional Eugenio Espejo\, Sodiro y Valparaíso\, Quito\, Pichincha\, Ecuador
CATEGORIES:Cine
ATTACH;FMTTYPE=image/jpeg:https://www.bne.gob.ec/wp-content/uploads/FACILITATOR3.jpg
END:VEVENT
BEGIN:VEVENT
DTSTART;TZID=America/New_York:20250627T173000
DTEND;TZID=America/New_York:20250627T190000
DTSTAMP:20260420T090556
CREATED:20250605T184943Z
LAST-MODIFIED:20250623T175130Z
UID:6177-1751045400-1751050800@www.bne.gob.ec
SUMMARY:Cine en la Biblioteca: El facilitador
DESCRIPTION:Miguel\, un exitoso hombre de negocios\, desahuciado por un cáncer terminal pide a su hija Elena que regrese al Ecuador para que le acompañe en su enfermedad. La relación entre ellos es fría y tensa; ella se dedica al alcohol y a las drogas\, por lo que Miguel le pide que se vaya por un tiempo a la hacienda de su abuelo. \nAbuelo y tíos\, en la vieja casa de hacienda\, viven su decadencia física\, económica y social\, añorando los años de apogeo. Allí Elena se reencuentra con Galo\, amigo de infancia quien le invita a participar en una minga de limpieza del canal de riego. Ella queda impactada por la cultura indígena y los espectaculares paisajes andinos\, y se involucra con Galo en las tareas de organización de las comunidades.
URL:https://www.bne.gob.ec/event/cine-facilitador-2/
LOCATION:Auditorio Biblioteca Nacional Eugenio Espejo\, Sodiro y Valparaíso\, Quito\, Pichincha\, Ecuador
CATEGORIES:Cine
ATTACH;FMTTYPE=image/jpeg:https://www.bne.gob.ec/wp-content/uploads/FACILITATOR3.jpg
END:VEVENT
BEGIN:VEVENT
DTSTART;TZID=America/New_York:20250628T150000
DTEND;TZID=America/New_York:20250628T170000
DTSTAMP:20260420T090556
CREATED:20250605T185057Z
LAST-MODIFIED:20250623T175231Z
UID:6179-1751122800-1751130000@www.bne.gob.ec
SUMMARY:Cine en la Biblioteca: El facilitador
DESCRIPTION:Miguel\, un exitoso hombre de negocios\, desahuciado por un cáncer terminal pide a su hija Elena que regrese al Ecuador para que le acompañe en su enfermedad. La relación entre ellos es fría y tensa; ella se dedica al alcohol y a las drogas\, por lo que Miguel le pide que se vaya por un tiempo a la hacienda de su abuelo. \nAbuelo y tíos\, en la vieja casa de hacienda\, viven su decadencia física\, económica y social\, añorando los años de apogeo. Allí Elena se reencuentra con Galo\, amigo de infancia quien le invita a participar en una minga de limpieza del canal de riego. Ella queda impactada por la cultura indígena y los espectaculares paisajes andinos\, y se involucra con Galo en las tareas de organización de las comunidades.
URL:https://www.bne.gob.ec/event/cine-en-la-biblioteca-facilitador-3/
LOCATION:Auditorio Biblioteca Nacional Eugenio Espejo\, Sodiro y Valparaíso\, Quito\, Pichincha\, Ecuador
CATEGORIES:Cine
ATTACH;FMTTYPE=image/jpeg:https://www.bne.gob.ec/wp-content/uploads/FACILITATOR3.jpg
END:VEVENT
END:VCALENDAR