BEGIN:VCALENDAR
VERSION:2.0
PRODID:-// - ECPv6.13.2.1//NONSGML v1.0//EN
CALSCALE:GREGORIAN
METHOD:PUBLISH
X-ORIGINAL-URL:https://www.bne.gob.ec
X-WR-CALDESC:Eventos para 
REFRESH-INTERVAL;VALUE=DURATION:PT1H
X-Robots-Tag:noindex
X-PUBLISHED-TTL:PT1H
BEGIN:VTIMEZONE
TZID:America/New_York
BEGIN:DAYLIGHT
TZOFFSETFROM:-0500
TZOFFSETTO:-0400
TZNAME:EDT
DTSTART:20250309T070000
END:DAYLIGHT
BEGIN:STANDARD
TZOFFSETFROM:-0400
TZOFFSETTO:-0500
TZNAME:EST
DTSTART:20251102T060000
END:STANDARD
END:VTIMEZONE
BEGIN:VEVENT
DTSTART;TZID=America/New_York:20250731T113000
DTEND;TZID=America/New_York:20250731T123000
DTSTAMP:20260420T142808
CREATED:20250602T203808Z
LAST-MODIFIED:20250609T234656Z
UID:6047-1753961400-1753965000@www.bne.gob.ec
SUMMARY:Descubre tu poesía-8- Publicación y difusión de la poesía
DESCRIPTION:Sesión 8: Publicación y difusión de la poesía\n\nTema: ¿Qué caminos existen para compartir la poesía? Revistas\, antologías\, recitales\, redes sociales. El rol de la Biblioteca Nacional en la difusión.\nActividades:\n\nExploración de plataformas para difusión de poesía en línea (ej. Facebook grupos de poesía\, blogs personales\, plataformas de autoedición\, concursos literarios).\nPreparación de lecturas para la sesión final: cada participante selecciona el poema que leerá en la clausura.
URL:https://www.bne.gob.ec/event/descubre-tu-poesia-8/
LOCATION:Auditorio Biblioteca Nacional Eugenio Espejo\, Sodiro y Valparaíso\, Quito\, Pichincha\, Ecuador
CATEGORIES:Escritura
ATTACH;FMTTYPE=image/jpeg:https://www.bne.gob.ec/wp-content/uploads/taller-poesia.jpg
END:VEVENT
BEGIN:VEVENT
DTSTART;TZID=America/New_York:20250731T140000
DTEND;TZID=America/New_York:20250731T153000
DTSTAMP:20260420T142808
CREATED:20250611T150442Z
LAST-MODIFIED:20250611T150442Z
UID:6386-1753970400-1753975800@www.bne.gob.ec
SUMMARY:Taller de periodismo 8. La ética periodísitica: una discusión necesaria.
DESCRIPTION:Taller de periodismo 8. La ética periodísitica: una discusión necesaria.
URL:https://www.bne.gob.ec/event/taller-de-periodismo-1-8/
LOCATION:Auditorio Biblioteca Nacional Eugenio Espejo\, Sodiro y Valparaíso\, Quito\, Pichincha\, Ecuador
CATEGORIES:Talleres
ATTACH;FMTTYPE=image/jpeg:https://www.bne.gob.ec/wp-content/uploads/periodismo-vale-1.jpg
END:VEVENT
BEGIN:VEVENT
DTSTART;TZID=America/New_York:20250731T170000
DTEND;TZID=America/New_York:20250731T190000
DTSTAMP:20260420T142808
CREATED:20250605T190852Z
LAST-MODIFIED:20250606T155016Z
UID:6193-1753981200-1753988400@www.bne.gob.ec
SUMMARY:Cine en la Biblioteca: Fuera de juego
DESCRIPTION:En esta cinta de Víctor Arregui\, Juan es un joven ecuatoriano de origen pobre que sueña con emigrar a España para escapar de la terrible situación de su país. En busca del dinero que necesitará para hacer realidad su sueño\, termina involucrándose en actos delincuenciales\, por su desesperación y los efectos que sobre su familia y el entorno que lo rodea ocasionado por el colapso social\, económico y moral de su país.
URL:https://www.bne.gob.ec/event/cine-en-la-biblioteca-juego-2/
LOCATION:Auditorio Biblioteca Nacional Eugenio Espejo\, Sodiro y Valparaíso\, Quito\, Pichincha\, Ecuador
CATEGORIES:Cine
ATTACH;FMTTYPE=image/jpeg:https://www.bne.gob.ec/wp-content/uploads/MV5BYjc5N2IxOTctNDJlMy00MDAzLWE5ZmItYWExODczNmExZTE5XkEyXkFqcGc._V1_FMjpg_UX1000_.jpg
END:VEVENT
END:VCALENDAR