BEGIN:VCALENDAR
VERSION:2.0
PRODID:-// - ECPv6.13.2.1//NONSGML v1.0//EN
CALSCALE:GREGORIAN
METHOD:PUBLISH
X-ORIGINAL-URL:https://www.bne.gob.ec
X-WR-CALDESC:Eventos para 
REFRESH-INTERVAL;VALUE=DURATION:PT1H
X-Robots-Tag:noindex
X-PUBLISHED-TTL:PT1H
BEGIN:VTIMEZONE
TZID:America/New_York
BEGIN:DAYLIGHT
TZOFFSETFROM:-0500
TZOFFSETTO:-0400
TZNAME:EDT
DTSTART:20250309T070000
END:DAYLIGHT
BEGIN:STANDARD
TZOFFSETFROM:-0400
TZOFFSETTO:-0500
TZNAME:EST
DTSTART:20251102T060000
END:STANDARD
END:VTIMEZONE
BEGIN:VEVENT
DTSTART;TZID=America/New_York:20250723T093000
DTEND;TZID=America/New_York:20250723T103000
DTSTAMP:20260420T142658
CREATED:20250606T181440Z
LAST-MODIFIED:20250609T225352Z
UID:6300-1753263000-1753266600@www.bne.gob.ec
SUMMARY:Cuentacuentos "Ramón preocupón"
DESCRIPTION:Ramón es un niño preocupón que se angustia a causa de los zapatos\, las nubes\, la lluvia\, los pájaros gigantes. Después de pasar una difícil noche en casa de su abuela\, ésta la le da la receta para deshacerse de sus preocupaciones. A partir de entonces\, Ramón las dejará a un lado.
URL:https://www.bne.gob.ec/event/cuentacuentos-ramon-3/
LOCATION:Auditorio Biblioteca Nacional Eugenio Espejo\, Sodiro y Valparaíso\, Quito\, Pichincha\, Ecuador
CATEGORIES:Cuentacuentos
ATTACH;FMTTYPE=image/jpeg:https://www.bne.gob.ec/wp-content/uploads/Ramon-Preocupon.jpg
END:VEVENT
BEGIN:VEVENT
DTSTART;TZID=America/New_York:20250723T113000
DTEND;TZID=America/New_York:20250723T123000
DTSTAMP:20260420T142658
CREATED:20250602T212046Z
LAST-MODIFIED:20250609T225400Z
UID:6077-1753270200-1753273800@www.bne.gob.ec
SUMMARY:Apreciación musical 7- "Evolución del sincretismo musical en América"
DESCRIPTION:Análisis de la transformación y consolidación de géneros musicales híbridos en distintos contextos históricos y geográficos del continente.
URL:https://www.bne.gob.ec/event/apreciacion-musical-7/
LOCATION:Auditorio Biblioteca Nacional Eugenio Espejo\, Sodiro y Valparaíso\, Quito\, Pichincha\, Ecuador
CATEGORIES:Talleres
ATTACH;FMTTYPE=image/jpeg:https://www.bne.gob.ec/wp-content/uploads/d66bbef1e41fbd3e5a6646e9e169c189.jpg
END:VEVENT
END:VCALENDAR