BEGIN:VCALENDAR
VERSION:2.0
PRODID:-// - ECPv6.13.2.1//NONSGML v1.0//EN
CALSCALE:GREGORIAN
METHOD:PUBLISH
X-ORIGINAL-URL:https://www.bne.gob.ec
X-WR-CALDESC:Eventos para 
REFRESH-INTERVAL;VALUE=DURATION:PT1H
X-Robots-Tag:noindex
X-PUBLISHED-TTL:PT1H
BEGIN:VTIMEZONE
TZID:America/New_York
BEGIN:DAYLIGHT
TZOFFSETFROM:-0500
TZOFFSETTO:-0400
TZNAME:EDT
DTSTART:20250309T070000
END:DAYLIGHT
BEGIN:STANDARD
TZOFFSETFROM:-0400
TZOFFSETTO:-0500
TZNAME:EST
DTSTART:20251102T060000
END:STANDARD
END:VTIMEZONE
BEGIN:VEVENT
DTSTART;TZID=America/New_York:20250710T113000
DTEND;TZID=America/New_York:20250710T123000
DTSTAMP:20260420T142336
CREATED:20250602T201511Z
LAST-MODIFIED:20250609T234218Z
UID:6035-1752147000-1752150600@www.bne.gob.ec
SUMMARY:Descubre tu poesía-5- Formas poéticas tradicionales y libres
DESCRIPTION:Sesión 5: Formas poéticas tradicionales y libres\n\nTema: Verso libre vs. formas fijas (soneto\, haiku\, copla). Ventajas y desafíos de cada una. La libertad creativa dentro de la estructura o fuera de ella.\nActividades:\n\nAnálisis de la estructura y libertad en distintos poemas:\n\nFrancisco de Quevedo: Un soneto clásico («Érase un hombre a una nariz pegado»).\nHaikus de Kobayashi Issa o Masaoka Shiki.\nWalt Whitman: fragmentos de «Canto a mí mismo» (el padre del verso libre).\nBlanca Varela: «Curriculum Vitae» o «Canto Villano». (Un ejemplo de verso libre profundo y depurado).\n\n\nEjercicio de escritura: intentar crear un haiku y un poema en verso libre sobre el mismo tema.\nTaller de desestructuración: tomar un poema con rima y «liberarlo» del esquema métrico.
URL:https://www.bne.gob.ec/event/descubre-tu-poesia-5/
LOCATION:Auditorio Biblioteca Nacional Eugenio Espejo\, Sodiro y Valparaíso\, Quito\, Pichincha\, Ecuador
CATEGORIES:Escritura
ATTACH;FMTTYPE=image/jpeg:https://www.bne.gob.ec/wp-content/uploads/pexels-jmeyer1220-1059682.jpg
END:VEVENT
BEGIN:VEVENT
DTSTART;TZID=America/New_York:20250710T140000
DTEND;TZID=America/New_York:20250710T153000
DTSTAMP:20260420T142336
CREATED:20250611T142625Z
LAST-MODIFIED:20250611T142625Z
UID:6383-1752156000-1752161400@www.bne.gob.ec
SUMMARY:Taller de periodismo 5. El perfil: entre la biografía y el retrato de autor.
DESCRIPTION:Taller de periodismo 5. El perfil: entre la biografía y el retrato de autor.
URL:https://www.bne.gob.ec/event/taller-de-periodismo-1-5/
LOCATION:Auditorio Biblioteca Nacional Eugenio Espejo\, Sodiro y Valparaíso\, Quito\, Pichincha\, Ecuador
CATEGORIES:Talleres
ATTACH;FMTTYPE=image/jpeg:https://www.bne.gob.ec/wp-content/uploads/periodismo-vale-1.jpg
END:VEVENT
BEGIN:VEVENT
DTSTART;TZID=America/New_York:20250710T170000
DTEND;TZID=America/New_York:20250718T213000
DTSTAMP:20260420T142336
CREATED:20250605T192853Z
LAST-MODIFIED:20250612T210458Z
UID:6209-1752166800-1752874200@www.bne.gob.ec
SUMMARY:6to. Festival Ecuatoriano Turicine
DESCRIPTION:El Festival Turicine (FECT)\, organizado por el Grupo Turicine\, busca impulsar y difundir la producción cinematográfica nacional\, a través de la interacción entre los talentos locales y el público en general para expandirse hacia todos los rincones del país e incentivar la formación de públicos en el territorio ecuatoriano. La edición 2025 del FECT se realiza con el apoyo del Ministerio de Cultura y Patrimonio y el Instituto de Fomento a la Creatividad y la Innovación.
URL:https://www.bne.gob.ec/event/6to-festival-ecuatoriano-turicine/
LOCATION:Auditorio Biblioteca Nacional Eugenio Espejo\, Sodiro y Valparaíso\, Quito\, Pichincha\, Ecuador
CATEGORIES:Cine
ATTACH;FMTTYPE=image/jpeg:https://www.bne.gob.ec/wp-content/uploads/turicine.jpg
END:VEVENT
END:VCALENDAR