BEGIN:VCALENDAR
VERSION:2.0
PRODID:-// - ECPv6.13.2.1//NONSGML v1.0//EN
CALSCALE:GREGORIAN
METHOD:PUBLISH
X-ORIGINAL-URL:https://www.bne.gob.ec
X-WR-CALDESC:Eventos para 
REFRESH-INTERVAL;VALUE=DURATION:PT1H
X-Robots-Tag:noindex
X-PUBLISHED-TTL:PT1H
BEGIN:VTIMEZONE
TZID:America/New_York
BEGIN:DAYLIGHT
TZOFFSETFROM:-0500
TZOFFSETTO:-0400
TZNAME:EDT
DTSTART:20250309T070000
END:DAYLIGHT
BEGIN:STANDARD
TZOFFSETFROM:-0400
TZOFFSETTO:-0500
TZNAME:EST
DTSTART:20251102T060000
END:STANDARD
END:VTIMEZONE
BEGIN:VEVENT
DTSTART;TZID=America/New_York:20250702T113000
DTEND;TZID=America/New_York:20250702T123000
DTSTAMP:20260420T142326
CREATED:20250602T211822Z
LAST-MODIFIED:20250609T224855Z
UID:6072-1751455800-1751459400@www.bne.gob.ec
SUMMARY:Apreciación musical 4- "La música clásica de Occidente"
DESCRIPTION:Apreciación de las obras representativas del periodo clásico\, sus características estilísticas y el legado de sus grandes figuras.
URL:https://www.bne.gob.ec/event/apreciacion-musical-4/
LOCATION:Auditorio Biblioteca Nacional Eugenio Espejo\, Sodiro y Valparaíso\, Quito\, Pichincha\, Ecuador
CATEGORIES:Talleres
ATTACH;FMTTYPE=image/jpeg:https://www.bne.gob.ec/wp-content/uploads/pexels-cottonbro-7095033.jpg
END:VEVENT
END:VCALENDAR