BEGIN:VCALENDAR
VERSION:2.0
PRODID:-// - ECPv6.13.2.1//NONSGML v1.0//EN
CALSCALE:GREGORIAN
METHOD:PUBLISH
X-ORIGINAL-URL:https://www.bne.gob.ec
X-WR-CALDESC:Eventos para 
REFRESH-INTERVAL;VALUE=DURATION:PT1H
X-Robots-Tag:noindex
X-PUBLISHED-TTL:PT1H
BEGIN:VTIMEZONE
TZID:America/New_York
BEGIN:DAYLIGHT
TZOFFSETFROM:-0500
TZOFFSETTO:-0400
TZNAME:EDT
DTSTART:20250309T070000
END:DAYLIGHT
BEGIN:STANDARD
TZOFFSETFROM:-0400
TZOFFSETTO:-0500
TZNAME:EST
DTSTART:20251102T060000
END:STANDARD
END:VTIMEZONE
BEGIN:VEVENT
DTSTART;TZID=America/New_York:20250626T113000
DTEND;TZID=America/New_York:20250626T123000
DTSTAMP:20260420T162944
CREATED:20250602T200916Z
LAST-MODIFIED:20250609T233901Z
UID:6029-1750937400-1750941000@www.bne.gob.ec
SUMMARY:Descubre tu poesía-3- Las figuras literarias: la pintura de las palabras
DESCRIPTION:Sesión 3: Las figuras literarias: la pintura de las palabras\n\nTema: Metáfora\, símil\, personificación\, hipérbole y otras figuras retóricas clave. Cómo estas figuras enriquecen el sentido y la belleza de un poema.\nActividades:\n\nAnálisis de poemas ricos en figuras literarias:\n\nCésar Vallejo: «Los heraldos negros» o «Piedra negra sobre una piedra blanca». (Para la intensidad de la metáfora y la imagen).\nPablo Neruda: «Me gustas cuando callas» o «Farrewell» (fragmentos con símiles y metáforas amorosas).\nAlfonso Barrera Valverde:«El perro y los siete hermanos» (por la potencia delicada de las imágenes del texto).\nEfraín Jara Idrovo: «El osario de los inocentes» (fragmentos con imágenes fuertes y simbolismo).\n\n\nEjercicio de escritura: transformar ideas cotidianas en imágenes poéticas usando figuras literarias.\nCreación colectiva de un poema corto usando figuras previamente identificadas.
URL:https://www.bne.gob.ec/event/poesia-3/
LOCATION:Auditorio Biblioteca Nacional Eugenio Espejo\, Sodiro y Valparaíso\, Quito\, Pichincha\, Ecuador
CATEGORIES:Escritura
ATTACH;FMTTYPE=image/jpeg:https://www.bne.gob.ec/wp-content/uploads/pexels-evie-shaffer-1259279-4004374.jpg
END:VEVENT
BEGIN:VEVENT
DTSTART;TZID=America/New_York:20250626T140000
DTEND;TZID=America/New_York:20250626T153000
DTSTAMP:20260420T162944
CREATED:20250611T142349Z
LAST-MODIFIED:20250611T142349Z
UID:6381-1750946400-1750951800@www.bne.gob.ec
SUMMARY:Taller de periodismo 3. En el comienzo fue la noticia: reflexión sobre los géneros periodísticos de escribir y leer.
DESCRIPTION:Taller de periodismo 3. En el comienzo fue la noticia: reflexión sobre los géneros periodísticos de escribir y leer.
URL:https://www.bne.gob.ec/event/taller-de-periodismo-1-3/
LOCATION:Auditorio Biblioteca Nacional Eugenio Espejo\, Sodiro y Valparaíso\, Quito\, Pichincha\, Ecuador
CATEGORIES:Talleres
ATTACH;FMTTYPE=image/jpeg:https://www.bne.gob.ec/wp-content/uploads/periodismo-vale-1.jpg
END:VEVENT
BEGIN:VEVENT
DTSTART;TZID=America/New_York:20250626T173000
DTEND;TZID=America/New_York:20250626T190000
DTSTAMP:20260420T162944
CREATED:20250605T184511Z
LAST-MODIFIED:20250623T174636Z
UID:6174-1750959000-1750964400@www.bne.gob.ec
SUMMARY:Cine en la Biblioteca: El facilitador
DESCRIPTION:Miguel\, un exitoso hombre de negocios\, desahuciado por un cáncer terminal pide a su hija Elena que regrese al Ecuador para que le acompañe en su enfermedad. La relación entre ellos es fría y tensa; ella se dedica al alcohol y a las drogas\, por lo que Miguel le pide que se vaya por un tiempo a la hacienda de su abuelo. \nAbuelo y tíos\, en la vieja casa de hacienda\, viven su decadencia física\, económica y social\, añorando los años de apogeo. Allí Elena se reencuentra con Galo\, amigo de infancia quien le invita a participar en una minga de limpieza del canal de riego. Ella queda impactada por la cultura indígena y los espectaculares paisajes andinos\, y se involucra con Galo en las tareas de organización de las comunidades.
URL:https://www.bne.gob.ec/event/cine-facilitador/
LOCATION:Auditorio Biblioteca Nacional Eugenio Espejo\, Sodiro y Valparaíso\, Quito\, Pichincha\, Ecuador
CATEGORIES:Cine
ATTACH;FMTTYPE=image/jpeg:https://www.bne.gob.ec/wp-content/uploads/FACILITATOR3.jpg
END:VEVENT
END:VCALENDAR