BEGIN:VCALENDAR
VERSION:2.0
PRODID:-// - ECPv6.13.2.1//NONSGML v1.0//EN
CALSCALE:GREGORIAN
METHOD:PUBLISH
X-ORIGINAL-URL:https://www.bne.gob.ec
X-WR-CALDESC:Eventos para 
REFRESH-INTERVAL;VALUE=DURATION:PT1H
X-Robots-Tag:noindex
X-PUBLISHED-TTL:PT1H
BEGIN:VTIMEZONE
TZID:America/New_York
BEGIN:DAYLIGHT
TZOFFSETFROM:-0500
TZOFFSETTO:-0400
TZNAME:EDT
DTSTART:20250309T070000
END:DAYLIGHT
BEGIN:STANDARD
TZOFFSETFROM:-0400
TZOFFSETTO:-0500
TZNAME:EST
DTSTART:20251102T060000
END:STANDARD
END:VTIMEZONE
BEGIN:VEVENT
DTSTART;TZID=America/New_York:20250621T090000
DTEND;TZID=America/New_York:20250621T103000
DTSTAMP:20260420T162627
CREATED:20250602T183918Z
LAST-MODIFIED:20250609T224631Z
UID:6008-1750496400-1750501800@www.bne.gob.ec
SUMMARY:Cuentacuentos "Ernesto el elefante"
DESCRIPTION:Ernesto se ha perdido en la selva y ninguno de sus habitantes parece querer ayudarle a volver con su manada de elefantes. Ni el más fuerte\, ni el más fiero\, ni el más veloz de los animales hace el más mínimo ademán de escucharle y le tratan con desdén. Pero la más pequeña de las criaturas le sorprende dándole la comprensión y la colaboración que necesita.
URL:https://www.bne.gob.ec/event/cuentacuentos-ernesto/
LOCATION:Auditorio Biblioteca Nacional Eugenio Espejo\, Sodiro y Valparaíso\, Quito\, Pichincha\, Ecuador
CATEGORIES:Cuentacuentos
ATTACH;FMTTYPE=image/jpeg:https://www.bne.gob.ec/wp-content/uploads/ernesto-elefante-1.jpg
END:VEVENT
BEGIN:VEVENT
DTSTART;TZID=America/New_York:20250621T150000
DTEND;TZID=America/New_York:20250621T170000
DTSTAMP:20260420T162627
CREATED:20250605T184348Z
LAST-MODIFIED:20250611T165430Z
UID:6172-1750518000-1750525200@www.bne.gob.ec
SUMMARY:Cine en la Biblioteca: Cuando me toque a mí
DESCRIPTION:Víctor Arregui\, en el 2006\, estrenó “Cuando me toque a mi” una película basada en la novela ‘De que nada se sabe’ del escritor Alfredo Noriega. Este film cuenta la historia de un médico forense que a diario se enfrenta a la muerte.  Su primera proyección se realizó con éxito en Festival de Biarritz (Francia)\, desde entonces ha recorrido varias ciudades de Ecuador y el mundo. \n\nEl amor\, el azar\, la ciudad y la muerte. Estos elementos se conjugan de mil maneras para precipitar los destinos del médico legista Arturo Fernández\, su madre\, su hermano\, su asistente\, una interna del hospital\, un taxista\, un migrante de la costa\, una mujer\, su hijo\, su ex marido y su amante. Dios los cría y Quito los junta. La muerte los iguala.\n\n 
URL:https://www.bne.gob.ec/event/cine-cuando-me-toque-3/
LOCATION:Auditorio Biblioteca Nacional Eugenio Espejo\, Sodiro y Valparaíso\, Quito\, Pichincha\, Ecuador
CATEGORIES:Cine
ATTACH;FMTTYPE=image/jpeg:https://www.bne.gob.ec/wp-content/uploads/cuando-me-toque-a-mi.jpg
END:VEVENT
END:VCALENDAR