BEGIN:VCALENDAR
VERSION:2.0
PRODID:-// - ECPv6.13.2.1//NONSGML v1.0//EN
CALSCALE:GREGORIAN
METHOD:PUBLISH
X-ORIGINAL-URL:https://www.bne.gob.ec
X-WR-CALDESC:Eventos para 
REFRESH-INTERVAL;VALUE=DURATION:PT1H
X-Robots-Tag:noindex
X-PUBLISHED-TTL:PT1H
BEGIN:VTIMEZONE
TZID:America/New_York
BEGIN:DAYLIGHT
TZOFFSETFROM:-0500
TZOFFSETTO:-0400
TZNAME:EDT
DTSTART:20250309T070000
END:DAYLIGHT
BEGIN:STANDARD
TZOFFSETFROM:-0400
TZOFFSETTO:-0500
TZNAME:EST
DTSTART:20251102T060000
END:STANDARD
END:VTIMEZONE
BEGIN:VEVENT
DTSTART;TZID=America/New_York:20250614T093000
DTEND;TZID=America/New_York:20250614T103000
DTSTAMP:20260420T161851
CREATED:20250531T142102Z
LAST-MODIFIED:20250609T224253Z
UID:5962-1749893400-1749897000@www.bne.gob.ec
SUMMARY:Cuentacuentos "Qué le pasa a mi cabello"
DESCRIPTION:Leonel tiene una fiesta pero antes de poder ir debe resolver un problema: su cabello luce terrible! As \, Leonel y su peluquero experimentan con diferentes estilos: desde el peinado tipo nido Para un d a de campo hasta el peinado de olas Para una fiesta en la playa. Despu s de probar diferentes peinados\, Leonel y su peluquero finalmente encontrar n un corte muy especial que lo har el centro de atenci n de la fiesta.
URL:https://www.bne.gob.ec/event/cuentacuentos-cabello/
LOCATION:Auditorio Biblioteca Nacional Eugenio Espejo\, Sodiro y Valparaíso\, Quito\, Pichincha\, Ecuador
CATEGORIES:Cuentacuentos
ATTACH;FMTTYPE=image/jpeg:https://www.bne.gob.ec/wp-content/uploads/QUELEPASAAMICABELLO-1.jpg
END:VEVENT
BEGIN:VEVENT
DTSTART;TZID=America/New_York:20250614T113000
DTEND;TZID=America/New_York:20250614T123000
DTSTAMP:20260420T161851
CREATED:20250531T142253Z
LAST-MODIFIED:20250611T141215Z
UID:5964-1749900600-1749904200@www.bne.gob.ec
SUMMARY:Juegos de mesa
DESCRIPTION:¡Ven y disfruta de tardes llenas de diversión y estrategia en nuestras Bibliovacaciones con la actividad de Juegos de Mesa en la BNEE! Una oportunidad perfecta para compartir\, aprender y desarrollar habilidades como la lógica\, la cooperación y la creatividad\, mientras te sumerges en mundos llenos de aventuras y desafíos. ¡Te esperamos para jugar\, reír y hacer nuevos amigos!
URL:https://www.bne.gob.ec/event/juegos-de-mesa/
LOCATION:Auditorio Biblioteca Nacional Eugenio Espejo\, Sodiro y Valparaíso\, Quito\, Pichincha\, Ecuador
CATEGORIES:Talleres
ATTACH;FMTTYPE=image/jpeg:https://www.bne.gob.ec/wp-content/uploads/juegosdemesa.jpg
END:VEVENT
BEGIN:VEVENT
DTSTART;TZID=America/New_York:20250614T140000
DTEND;TZID=America/New_York:20250614T153000
DTSTAMP:20260420T161851
CREATED:20250531T142438Z
LAST-MODIFIED:20250611T141252Z
UID:5966-1749909600-1749915000@www.bne.gob.ec
SUMMARY:Taller de teatro y expresión corporal 1- "El lenguaje del cuerpo: primeras exploraciones"
DESCRIPTION:Taller de teatro y expresión corporal 1- «El lenguaje del cuerpo: primeras exploraciones»
URL:https://www.bne.gob.ec/event/teatro-1/
LOCATION:Auditorio Biblioteca Nacional Eugenio Espejo\, Sodiro y Valparaíso\, Quito\, Pichincha\, Ecuador
CATEGORIES:Talleres
ATTACH;FMTTYPE=image/jpeg:https://www.bne.gob.ec/wp-content/uploads/expresioncorporalvale.jpg
END:VEVENT
BEGIN:VEVENT
DTSTART;TZID=America/New_York:20250614T150000
DTEND;TZID=America/New_York:20250614T163000
DTSTAMP:20260420T161851
CREATED:20250605T183455Z
LAST-MODIFIED:20250610T180341Z
UID:6164-1749913200-1749918600@www.bne.gob.ec
SUMMARY:Cine en la Biblioteca: 7 muros
DESCRIPTION:Esta película del director Daniel Yépez Brito\, estrenada en 2016\, propone una exploración del significado de los muros: los del vecindario\, los de la casa\, los de la propia mente. Luego de 20 años de vivir en la misma casa en la ciudad de Quito\, Daniel decide mudarse\, pero se da cuenta que nunca ha conocido a ninguno de sus vecinos\, por lo que antes de su partida\, decide explorar en la vida de cada uno de ellos\, descubriendo la importancia de romper su propio muro para poder ingresar a la vida del “otro”. \n 
URL:https://www.bne.gob.ec/event/cine-7-muros-3/
LOCATION:Auditorio Biblioteca Nacional Eugenio Espejo\, Sodiro y Valparaíso\, Quito\, Pichincha\, Ecuador
CATEGORIES:Cine
ATTACH;FMTTYPE=image/jpeg:https://www.bne.gob.ec/wp-content/uploads/7-MUROS-1.jpg
END:VEVENT
END:VCALENDAR