BEGIN:VCALENDAR
VERSION:2.0
PRODID:-// - ECPv6.13.2.1//NONSGML v1.0//EN
CALSCALE:GREGORIAN
METHOD:PUBLISH
X-ORIGINAL-URL:https://www.bne.gob.ec
X-WR-CALDESC:Eventos para 
REFRESH-INTERVAL;VALUE=DURATION:PT1H
X-Robots-Tag:noindex
X-PUBLISHED-TTL:PT1H
BEGIN:VTIMEZONE
TZID:America/New_York
BEGIN:DAYLIGHT
TZOFFSETFROM:-0500
TZOFFSETTO:-0400
TZNAME:EDT
DTSTART:20250309T070000
END:DAYLIGHT
BEGIN:STANDARD
TZOFFSETFROM:-0400
TZOFFSETTO:-0500
TZNAME:EST
DTSTART:20251102T060000
END:STANDARD
END:VTIMEZONE
BEGIN:VEVENT
DTSTART;TZID=America/New_York:20250611T093000
DTEND;TZID=America/New_York:20250611T103000
DTSTAMP:20260420T162731
CREATED:20250531T134615Z
LAST-MODIFIED:20250609T223914Z
UID:5939-1749634200-1749637800@www.bne.gob.ec
SUMMARY:Cuentacuentos "Ramón preocupón"
DESCRIPTION:Ramón es un niño preocupón que se angustia a causa de los zapatos\, las nubes\, la lluvia\, los pájaros gigantes. Después de pasar una difícil noche en casa de su abuela\, ésta la le da la receta para deshacerse de sus preocupaciones. A partir de entonces\, Ramón las dejará a un lado.
URL:https://www.bne.gob.ec/event/cuentacuentos-ramon/
LOCATION:Auditorio Biblioteca Nacional Eugenio Espejo\, Sodiro y Valparaíso\, Quito\, Pichincha\, Ecuador
CATEGORIES:Cuentacuentos
ATTACH;FMTTYPE=image/jpeg:https://www.bne.gob.ec/wp-content/uploads/Ramon-Preocupon.jpg
END:VEVENT
BEGIN:VEVENT
DTSTART;TZID=America/New_York:20250611T113000
DTEND;TZID=America/New_York:20250611T123000
DTSTAMP:20260420T162731
CREATED:20250602T212805Z
LAST-MODIFIED:20250609T223942Z
UID:6082-1749641400-1749645000@www.bne.gob.ec
SUMMARY:Apreciación musical 1-"Sonidos de los Andes: La música nativa"
DESCRIPTION:Un recorrido por las expresiones musicales ancestrales de los pueblos andinos\, sus instrumentos tradicionales y su vínculo con la cosmovisión indígena.
URL:https://www.bne.gob.ec/event/apreciacion-musical-1/
LOCATION:Auditorio Biblioteca Nacional Eugenio Espejo\, Sodiro y Valparaíso\, Quito\, Pichincha\, Ecuador
CATEGORIES:Talleres
ATTACH;FMTTYPE=image/jpeg:https://www.bne.gob.ec/wp-content/uploads/19282444316_bf64a3a96e_c.jpg
END:VEVENT
BEGIN:VEVENT
DTSTART;TZID=America/New_York:20250611T140000
DTEND;TZID=America/New_York:20250611T150000
DTSTAMP:20260420T162731
CREATED:20250531T135146Z
LAST-MODIFIED:20250609T224017Z
UID:5943-1749650400-1749654000@www.bne.gob.ec
SUMMARY:Club de lectura: Los Sangurimas (De la Cuadra)
DESCRIPTION:Club de lectura: Los Sangurimas (De la Cuadra)
URL:https://www.bne.gob.ec/event/club-los-sangurimas-1/
LOCATION:Auditorio Biblioteca Nacional Eugenio Espejo\, Sodiro y Valparaíso\, Quito\, Pichincha\, Ecuador
CATEGORIES:Club de lectura
ATTACH;FMTTYPE=image/jpeg:https://www.bne.gob.ec/wp-content/uploads/phoca_thumb_l_129262-Caserio-Montubio.jpg
END:VEVENT
END:VCALENDAR